BEGIN:VCALENDAR
VERSION:2.0
PRODID:-//Hrtlink - ECPv6.15.18//NONSGML v1.0//EN
CALSCALE:GREGORIAN
METHOD:PUBLISH
X-WR-CALNAME:Hrtlink
X-ORIGINAL-URL:https://hrtlink.nl
X-WR-CALDESC:Evenementen voor Hrtlink
REFRESH-INTERVAL;VALUE=DURATION:PT1H
X-Robots-Tag:noindex
X-PUBLISHED-TTL:PT1H
BEGIN:VTIMEZONE
TZID:UTC
BEGIN:STANDARD
TZOFFSETFROM:+0000
TZOFFSETTO:+0000
TZNAME:UTC
DTSTART:20250101T000000
END:STANDARD
END:VTIMEZONE
BEGIN:VEVENT
DTSTART;TZID=UTC:20260823T090000
DTEND;TZID=UTC:20260823T130000
DTSTAMP:20260421T191611
CREATED:20251212T111729Z
LAST-MODIFIED:20251212T111729Z
UID:9060-1787475600-1787490000@hrtlink.nl
SUMMARY:De Stadskerk Groningen
DESCRIPTION:
URL:https://hrtlink.nl/event/de-stadskerk-groningen-2/
LOCATION:De Stadskerk Groningen\, Friesestraatweg 221\, Groningen\, Nederland
CATEGORIES:Spreekbeurten
ORGANIZER;CN="De Stadskerk Groningen":MAILTO:https://www.destadskerk.nl/details/eredienst-om-930-uur-2/169102/
END:VEVENT
BEGIN:VEVENT
DTSTART;TZID=UTC:20260830T093000
DTEND;TZID=UTC:20260830T130000
DTSTAMP:20260421T191611
CREATED:20260410T094000Z
LAST-MODIFIED:20260410T094000Z
UID:9362-1788082200-1788094800@hrtlink.nl
SUMMARY:Mozaiek071
DESCRIPTION:
URL:https://hrtlink.nl/event/mozaiek071-4/
LOCATION:Julianakerk\, Julianalaan 6\, Sassenheim\, Netherlands
CATEGORIES:Spreekbeurten
END:VEVENT
END:VCALENDAR