BEGIN:VCALENDAR
VERSION:2.0
PRODID:-//Hrtlink - ECPv6.15.18//NONSGML v1.0//EN
CALSCALE:GREGORIAN
METHOD:PUBLISH
X-WR-CALNAME:Hrtlink
X-ORIGINAL-URL:https://hrtlink.nl
X-WR-CALDESC:Evenementen voor Hrtlink
REFRESH-INTERVAL;VALUE=DURATION:PT1H
X-Robots-Tag:noindex
X-PUBLISHED-TTL:PT1H
BEGIN:VTIMEZONE
TZID:UTC
BEGIN:STANDARD
TZOFFSETFROM:+0000
TZOFFSETTO:+0000
TZNAME:UTC
DTSTART:20260101T000000
END:STANDARD
END:VTIMEZONE
BEGIN:VEVENT
DTSTART;TZID=UTC:20271128T093000
DTEND;TZID=UTC:20271128T130000
DTSTAMP:20260425T131457
CREATED:20260424T093213Z
LAST-MODIFIED:20260424T093213Z
UID:9423-1827394200-1827406800@hrtlink.nl
SUMMARY:Mozaiek0318
DESCRIPTION:
URL:https://hrtlink.nl/event/mozaiek0318-11/
LOCATION:De Basiliek\, Wiltonstraat 59\, Veenendaal\, Nederland
CATEGORIES:Spreekbeurten
END:VEVENT
BEGIN:VEVENT
DTSTART;TZID=UTC:20271205T100000
DTEND;TZID=UTC:20271205T120000
DTSTAMP:20260425T131457
CREATED:20260424T101607Z
LAST-MODIFIED:20260424T101607Z
UID:9451-1828000800-1828008000@hrtlink.nl
SUMMARY:De Ark
DESCRIPTION:
URL:https://hrtlink.nl/event/de-ark-5/
LOCATION:Theater De Binding\, Bosgroet 13\, Zuid Scharwoude\, Nederland
CATEGORIES:Spreekbeurten
END:VEVENT
END:VCALENDAR