BEGIN:VCALENDAR
VERSION:2.0
PRODID:-//Hrtlink - ECPv6.15.18//NONSGML v1.0//EN
CALSCALE:GREGORIAN
METHOD:PUBLISH
X-WR-CALNAME:Hrtlink
X-ORIGINAL-URL:https://hrtlink.nl
X-WR-CALDESC:Evenementen voor Hrtlink
REFRESH-INTERVAL;VALUE=DURATION:PT1H
X-Robots-Tag:noindex
X-PUBLISHED-TTL:PT1H
BEGIN:VTIMEZONE
TZID:UTC
BEGIN:STANDARD
TZOFFSETFROM:+0000
TZOFFSETTO:+0000
TZNAME:UTC
DTSTART:20260101T000000
END:STANDARD
END:VTIMEZONE
BEGIN:VEVENT
DTSTART;TZID=UTC:20270110T110000
DTEND;TZID=UTC:20270110T123000
DTSTAMP:20260424T083255
CREATED:20260413T120454Z
LAST-MODIFIED:20260413T120454Z
UID:9368-1799578800-1799584200@hrtlink.nl
SUMMARY:24Life Church
DESCRIPTION:
URL:https://hrtlink.nl/event/24life-church/
LOCATION:24 Life Church\, A.R. Verschoorlaan 11\, Den Helder
CATEGORIES:Spreekbeurten
END:VEVENT
BEGIN:VEVENT
DTSTART;TZID=UTC:20270110T110000
DTEND;TZID=UTC:20270110T123000
DTSTAMP:20260424T083255
CREATED:20260424T075730Z
LAST-MODIFIED:20260424T075730Z
UID:9379-1799578800-1799584200@hrtlink.nl
SUMMARY:24Life Church
DESCRIPTION:
URL:https://hrtlink.nl/event/24life-church-2/
LOCATION:24 Life Church\, A.R. Verschoorlaan 11\, Den Helder
CATEGORIES:Spreekbeurten
END:VEVENT
BEGIN:VEVENT
DTSTART;TZID=UTC:20270117T100000
DTEND;TZID=UTC:20270117T113000
DTSTAMP:20260424T083255
CREATED:20260413T120938Z
LAST-MODIFIED:20260413T120938Z
UID:9372-1800180000-1800185400@hrtlink.nl
SUMMARY:BG De Haven
DESCRIPTION:
URL:https://hrtlink.nl/event/bg-de-haven-2/
LOCATION:Revius Lyceum\, Remus 4\, Wijk bij Duurstede\, Nederland
CATEGORIES:Spreekbeurten
END:VEVENT
BEGIN:VEVENT
DTSTART;TZID=UTC:20270124T100000
DTEND;TZID=UTC:20270124T113000
DTSTAMP:20260424T083255
CREATED:20260413T121524Z
LAST-MODIFIED:20260413T121524Z
UID:9374-1800784800-1800790200@hrtlink.nl
SUMMARY:Levend Evangelie Gemeente
DESCRIPTION:
URL:https://hrtlink.nl/event/levend-evangelie-gemeente-8/
LOCATION:De Leg\, Kruisweg 55\, Aalsmeerderbrug\, Nederland
CATEGORIES:Spreekbeurten
END:VEVENT
BEGIN:VEVENT
DTSTART;TZID=UTC:20270124T100000
DTEND;TZID=UTC:20270124T113000
DTSTAMP:20260424T083255
CREATED:20260424T080312Z
LAST-MODIFIED:20260424T080312Z
UID:9383-1800784800-1800790200@hrtlink.nl
SUMMARY:Levend Evangelie Gemeente
DESCRIPTION:
URL:https://hrtlink.nl/event/levend-evangelie-gemeente-9/
LOCATION:De Leg\, Kruisweg 55\, Aalsmeerderbrug\, Nederland
CATEGORIES:Spreekbeurten
END:VEVENT
BEGIN:VEVENT
DTSTART;TZID=UTC:20270131T003000
DTEND;TZID=UTC:20270131T140000
DTSTAMP:20260424T083255
CREATED:20260424T080948Z
LAST-MODIFIED:20260424T080948Z
UID:9385-1801355400-1801404000@hrtlink.nl
SUMMARY:Het Fundament
DESCRIPTION:
URL:https://hrtlink.nl/event/het-fundament/
LOCATION:Het Fundament\, De Grote Pekken 11\, Veenendaal
CATEGORIES:Spreekbeurten
END:VEVENT
BEGIN:VEVENT
DTSTART;TZID=UTC:20270207T103000
DTEND;TZID=UTC:20270207T120000
DTSTAMP:20260424T083255
CREATED:20260424T081241Z
LAST-MODIFIED:20260424T081241Z
UID:9389-1801996200-1802001600@hrtlink.nl
SUMMARY:De Schuilplaats
DESCRIPTION:
URL:https://hrtlink.nl/event/de-schuilplaats-7/
LOCATION:Gemeente De Schuilplaats Culemborg\, Beethovenlaan 1\, Culemborg\, Nederland
CATEGORIES:Spreekbeurten
END:VEVENT
BEGIN:VEVENT
DTSTART;TZID=UTC:20270214T100000
DTEND;TZID=UTC:20270214T233000
DTSTAMP:20260424T083255
CREATED:20260424T081502Z
LAST-MODIFIED:20260424T081502Z
UID:9391-1802599200-1802647800@hrtlink.nl
SUMMARY:Christengemeente Hardinxveld Giessendam
DESCRIPTION:
URL:https://hrtlink.nl/event/christengemeente-hardinxveld-giessendam-12/
LOCATION:Christengemeente Hardinxveld Giessendam\, Breedewaij 1a\, Hardinxveld-Giessendam
CATEGORIES:Spreekbeurten
END:VEVENT
BEGIN:VEVENT
DTSTART;TZID=UTC:20270221T103000
DTEND;TZID=UTC:20270221T120000
DTSTAMP:20260424T083255
CREATED:20260424T081736Z
LAST-MODIFIED:20260424T081736Z
UID:9395-1803205800-1803211200@hrtlink.nl
SUMMARY:EG De Schuilplaats
DESCRIPTION:
URL:https://hrtlink.nl/event/eg-de-schuilplaats-7/
LOCATION:De Schuilplaats Ede\, Otterloseweg 18-A\, Ede
CATEGORIES:Spreekbeurten
END:VEVENT
BEGIN:VEVENT
DTSTART;TZID=UTC:20270307T100000
DTEND;TZID=UTC:20270307T233000
DTSTAMP:20260424T083255
CREATED:20260424T081937Z
LAST-MODIFIED:20260424T081937Z
UID:9397-1804413600-1804462200@hrtlink.nl
SUMMARY:EC Europoort
DESCRIPTION:
URL:https://hrtlink.nl/event/ec-europoort-3/
LOCATION:EC Europoort\, Nieuwe Binnenweg 324-326\, Rotterdam\, Nederland
CATEGORIES:Spreekbeurten
END:VEVENT
BEGIN:VEVENT
DTSTART;TZID=UTC:20270314T080000
DTEND;TZID=UTC:20270314T170000
DTSTAMP:20260424T083255
CREATED:20260424T083003Z
LAST-MODIFIED:20260424T083003Z
UID:9399-1805011200-1805043600@hrtlink.nl
SUMMARY:PG De Banier
DESCRIPTION:
URL:https://hrtlink.nl/event/pg-de-banier/
LOCATION:Theatherhotel\, Schouwburgplein 1\, Almelo
CATEGORIES:Spreekbeurten
END:VEVENT
BEGIN:VEVENT
DTSTART;TZID=UTC:20270919T100000
DTEND;TZID=UTC:20270919T233000
DTSTAMP:20260424T083255
CREATED:20260424T081613Z
LAST-MODIFIED:20260424T081613Z
UID:9393-1821348000-1821396600@hrtlink.nl
SUMMARY:Christengemeente Hardinxveld Giessendam
DESCRIPTION:
URL:https://hrtlink.nl/event/christengemeente-hardinxveld-giessendam-14/
LOCATION:Christengemeente Hardinxveld Giessendam\, Breedewaij 1a\, Hardinxveld-Giessendam
CATEGORIES:Spreekbeurten
END:VEVENT
END:VCALENDAR