BEGIN:VCALENDAR
VERSION:2.0
PRODID:-//Hrtlink - ECPv6.15.18//NONSGML v1.0//EN
CALSCALE:GREGORIAN
METHOD:PUBLISH
X-WR-CALNAME:Hrtlink
X-ORIGINAL-URL:https://hrtlink.nl
X-WR-CALDESC:Evenementen voor Hrtlink
REFRESH-INTERVAL;VALUE=DURATION:PT1H
X-Robots-Tag:noindex
X-PUBLISHED-TTL:PT1H
BEGIN:VTIMEZONE
TZID:UTC
BEGIN:STANDARD
TZOFFSETFROM:+0000
TZOFFSETTO:+0000
TZNAME:UTC
DTSTART:20260101T000000
END:STANDARD
END:VTIMEZONE
BEGIN:VEVENT
DTSTART;TZID=UTC:20270418T110000
DTEND;TZID=UTC:20270418T123000
DTSTAMP:20260424T100035
CREATED:20260424T092017Z
LAST-MODIFIED:20260424T092017Z
UID:9412-1808046000-1808051400@hrtlink.nl
SUMMARY:Mozaiek055
DESCRIPTION:
URL:https://hrtlink.nl/event/mozaiek055-2/
LOCATION:FSG\, Laan van Westenenk 4\, Apeldoorn\, 7336AZ
CATEGORIES:Spreekbeurten
END:VEVENT
BEGIN:VEVENT
DTSTART;TZID=UTC:20270425T103000
DTEND;TZID=UTC:20270425T120000
DTSTAMP:20260424T100035
CREATED:20260424T092203Z
LAST-MODIFIED:20260424T092203Z
UID:9414-1808649000-1808654400@hrtlink.nl
SUMMARY:Nehemia Ministries
DESCRIPTION:
URL:https://hrtlink.nl/event/nehemia-ministries-2/
LOCATION:Nehemia\, H.A. Lorentzstraat 5\, Zwijndrecht\, Nederland
CATEGORIES:Spreekbeurten
END:VEVENT
BEGIN:VEVENT
DTSTART;TZID=UTC:20270502T103000
DTEND;TZID=UTC:20270502T120000
DTSTAMP:20260424T100035
CREATED:20260424T092429Z
LAST-MODIFIED:20260424T092429Z
UID:9416-1809253800-1809259200@hrtlink.nl
SUMMARY:PG Kom & Zie
DESCRIPTION:
URL:https://hrtlink.nl/event/pg-kom-zie/
LOCATION:PG Kom en Zie\, Boezemweg 166\, Rotterdam
CATEGORIES:Spreekbeurten
END:VEVENT
BEGIN:VEVENT
DTSTART;TZID=UTC:20270509T093000
DTEND;TZID=UTC:20270509T130000
DTSTAMP:20260424T100035
CREATED:20260424T092803Z
LAST-MODIFIED:20260424T092803Z
UID:9419-1809855000-1809867600@hrtlink.nl
SUMMARY:Motion Church
DESCRIPTION:
URL:https://hrtlink.nl/event/motion-church/
LOCATION:Motion Church\, Wijnesteinlaan 2\, Utrecht\, Nederland
CATEGORIES:Spreekbeurten
END:VEVENT
BEGIN:VEVENT
DTSTART;TZID=UTC:20270523T093000
DTEND;TZID=UTC:20270523T130000
DTSTAMP:20260424T100035
CREATED:20260424T093036Z
LAST-MODIFIED:20260424T093036Z
UID:9421-1811064600-1811077200@hrtlink.nl
SUMMARY:Mozaiek0318
DESCRIPTION:
URL:https://hrtlink.nl/event/mozaiek0318-10/
LOCATION:De Basiliek\, Wiltonstraat 59\, Veenendaal\, Nederland
CATEGORIES:Spreekbeurten
END:VEVENT
BEGIN:VEVENT
DTSTART;TZID=UTC:20270530T093000
DTEND;TZID=UTC:20270530T130000
DTSTAMP:20260424T100035
CREATED:20260424T093400Z
LAST-MODIFIED:20260424T093400Z
UID:9425-1811669400-1811682000@hrtlink.nl
SUMMARY:Mozaiek033
DESCRIPTION:
URL:https://hrtlink.nl/event/mozaiek033-8/
LOCATION:Corlaer College\, Henri Nouwenstraat 8\, Nijkerk\, Nederland
CATEGORIES:Spreekbeurten
END:VEVENT
BEGIN:VEVENT
DTSTART;TZID=UTC:20270606T100000
DTEND;TZID=UTC:20270606T233000
DTSTAMP:20260424T100035
CREATED:20260424T094646Z
LAST-MODIFIED:20260424T094646Z
UID:9427-1812276000-1812324600@hrtlink.nl
SUMMARY:Kerk met Passie
DESCRIPTION:
URL:https://hrtlink.nl/event/kerk-met-passie-2/
LOCATION:Pand 9\, Van Heemstraweg West 9\, Zaltbommel\, Nederland
CATEGORIES:Spreekbeurten
END:VEVENT
BEGIN:VEVENT
DTSTART;TZID=UTC:20270613T093000
DTEND;TZID=UTC:20270613T110000
DTSTAMP:20260424T100035
CREATED:20260424T095109Z
LAST-MODIFIED:20260424T095109Z
UID:9429-1812879000-1812884400@hrtlink.nl
SUMMARY:Jesus Central Church
DESCRIPTION:
URL:https://hrtlink.nl/event/jesus-central-church-2/
LOCATION:Jesus Central Church\, Rijsselseweg 1\, Gouda
CATEGORIES:Spreekbeurten
END:VEVENT
BEGIN:VEVENT
DTSTART;TZID=UTC:20270620T100000
DTEND;TZID=UTC:20270620T233000
DTSTAMP:20260424T100035
CREATED:20260424T095234Z
LAST-MODIFIED:20260424T095234Z
UID:9431-1813485600-1813534200@hrtlink.nl
SUMMARY:De Levensbron
DESCRIPTION:
URL:https://hrtlink.nl/event/de-levensbron-3/
LOCATION:CSG Willem de Zwijger\, Kamerlingh Onnesdreef 4\, Schoonhoven\, Nederland
CATEGORIES:Spreekbeurten
END:VEVENT
BEGIN:VEVENT
DTSTART;TZID=UTC:20270704T090000
DTEND;TZID=UTC:20270704T110000
DTSTAMP:20260424T100035
CREATED:20260424T095449Z
LAST-MODIFIED:20260424T095449Z
UID:9433-1814691600-1814698800@hrtlink.nl
SUMMARY:VBG De Stadskerk
DESCRIPTION:
URL:https://hrtlink.nl/event/vbg-de-stadskerk-3/
LOCATION:De Stadskerk Groningen\, Friesestraatweg 221\, Groningen\, Nederland
CATEGORIES:Spreekbeurten
ORGANIZER;CN="De Stadskerk Groningen":MAILTO:https://www.destadskerk.nl/details/eredienst-om-930-uur-2/169102/
END:VEVENT
BEGIN:VEVENT
DTSTART;TZID=UTC:20270905T100000
DTEND;TZID=UTC:20270905T233000
DTSTAMP:20260424T100035
CREATED:20260424T090619Z
LAST-MODIFIED:20260424T090619Z
UID:9402-1820138400-1820187000@hrtlink.nl
SUMMARY:PG De Banier
DESCRIPTION:
URL:https://hrtlink.nl/event/pg-de-banier-2/
LOCATION:Theatherhotel\, Schouwburgplein 1\, Almelo
CATEGORIES:Spreekbeurten
END:VEVENT
BEGIN:VEVENT
DTSTART;TZID=UTC:20270912T100000
DTEND;TZID=UTC:20270912T233000
DTSTAMP:20260424T100035
CREATED:20260424T095718Z
LAST-MODIFIED:20260424T095718Z
UID:9435-1820743200-1820791800@hrtlink.nl
SUMMARY:Evangelische Gemeenschap Sneek
DESCRIPTION:
URL:https://hrtlink.nl/event/evangelische-gemeenschap-sneek-4/
LOCATION:Hemkerk\, Smidsstraat 8\, Sneek\, Nederland
CATEGORIES:Spreekbeurten
END:VEVENT
BEGIN:VEVENT
DTSTART;TZID=UTC:20270919T100000
DTEND;TZID=UTC:20270919T233000
DTSTAMP:20260424T100035
CREATED:20260424T081613Z
LAST-MODIFIED:20260424T081613Z
UID:9393-1821348000-1821396600@hrtlink.nl
SUMMARY:Christengemeente Hardinxveld Giessendam
DESCRIPTION:
URL:https://hrtlink.nl/event/christengemeente-hardinxveld-giessendam-14/
LOCATION:Christengemeente Hardinxveld Giessendam\, Breedewaij 1a\, Hardinxveld-Giessendam
CATEGORIES:Spreekbeurten
END:VEVENT
BEGIN:VEVENT
DTSTART;TZID=UTC:20270926T100000
DTEND;TZID=UTC:20270926T233000
DTSTAMP:20260424T100035
CREATED:20260424T095946Z
LAST-MODIFIED:20260424T095946Z
UID:9437-1821952800-1822001400@hrtlink.nl
SUMMARY:Mozaiek071
DESCRIPTION:
URL:https://hrtlink.nl/event/mozaiek071-5/
LOCATION:Julianakerk\, Julianalaan 6\, Sassenheim\, Netherlands
CATEGORIES:Spreekbeurten
END:VEVENT
BEGIN:VEVENT
DTSTART;TZID=UTC:20271107T100000
DTEND;TZID=UTC:20271107T233000
DTSTAMP:20260424T100035
CREATED:20260424T091249Z
LAST-MODIFIED:20260424T091249Z
UID:9408-1825581600-1825630200@hrtlink.nl
SUMMARY:VEG De Burcht
DESCRIPTION:
URL:https://hrtlink.nl/event/veg-de-burcht-8/
LOCATION:Altena College\, Rijksstraatweg 153\, Sleeuwijk\, Nederland
CATEGORIES:Spreekbeurten
ORGANIZER;CN="VEG De Burcht":MAILTO:https://www.deburchtsleeuwijk.nl/activiteiten/zondagse-dienst
END:VEVENT
BEGIN:VEVENT
DTSTART;TZID=UTC:20271128T093000
DTEND;TZID=UTC:20271128T130000
DTSTAMP:20260424T100035
CREATED:20260424T093213Z
LAST-MODIFIED:20260424T093213Z
UID:9423-1827394200-1827406800@hrtlink.nl
SUMMARY:Mozaiek0318
DESCRIPTION:
URL:https://hrtlink.nl/event/mozaiek0318-11/
LOCATION:De Basiliek\, Wiltonstraat 59\, Veenendaal\, Nederland
CATEGORIES:Spreekbeurten
END:VEVENT
END:VCALENDAR