BEGIN:VCALENDAR
VERSION:2.0
PRODID:-//Hrtlink - ECPv6.15.18//NONSGML v1.0//EN
CALSCALE:GREGORIAN
METHOD:PUBLISH
X-WR-CALNAME:Hrtlink
X-ORIGINAL-URL:https://hrtlink.nl
X-WR-CALDESC:Evenementen voor Hrtlink
REFRESH-INTERVAL;VALUE=DURATION:PT1H
X-Robots-Tag:noindex
X-PUBLISHED-TTL:PT1H
BEGIN:VTIMEZONE
TZID:UTC
BEGIN:STANDARD
TZOFFSETFROM:+0000
TZOFFSETTO:+0000
TZNAME:UTC
DTSTART:20180101T000000
END:STANDARD
END:VTIMEZONE
BEGIN:VEVENT
DTSTART;TZID=UTC:20200503T093000
DTEND;TZID=UTC:20200503T130000
DTSTAMP:20260422T221222
CREATED:20190307T124601Z
LAST-MODIFIED:20190307T124601Z
UID:7587-1588498200-1588510800@hrtlink.nl
SUMMARY:Shelter Haarlem - livestream
DESCRIPTION:
URL:https://hrtlink.nl/event/shelter-haarlem-60/
LOCATION:TRIBE\, Eksterlaan 1\, Haarlem
CATEGORIES:Spreekbeurten
END:VEVENT
BEGIN:VEVENT
DTSTART;TZID=UTC:20200426T100000
DTEND;TZID=UTC:20200426T113000
DTSTAMP:20260422T221222
CREATED:20190307T124352Z
LAST-MODIFIED:20190307T124352Z
UID:7585-1587895200-1587900600@hrtlink.nl
SUMMARY:Levend Evangelie Gemeente Schipholrijk
DESCRIPTION:
URL:https://hrtlink.nl/event/levend-evangelie-gemeente-schipholrijk-4/
LOCATION:De Leg\, Kruisweg 55\, Aalsmeerderbrug\, Nederland
CATEGORIES:Spreekbeurten
END:VEVENT
BEGIN:VEVENT
DTSTART;TZID=UTC:20200425T090000
DTEND;TZID=UTC:20200425T163000
DTSTAMP:20260422T221222
CREATED:20200206T133155Z
LAST-MODIFIED:20200206T133155Z
UID:7823-1587805200-1587832200@hrtlink.nl
SUMMARY:School 4 leadership and mission
DESCRIPTION:
URL:https://hrtlink.nl/event/school-4-leadership-and-mission/
LOCATION:Hope4you\, Gildeweg 29\, Vlissingen\, Nederland
CATEGORIES:Spreekbeurten
END:VEVENT
BEGIN:VEVENT
DTSTART;TZID=UTC:20200419T100000
DTEND;TZID=UTC:20200419T133000
DTSTAMP:20260422T221222
CREATED:20190307T124228Z
LAST-MODIFIED:20190307T124228Z
UID:7583-1587290400-1587303000@hrtlink.nl
SUMMARY:Evangelisch Centrum Europoort
DESCRIPTION:
URL:https://hrtlink.nl/event/evangelisch-centrum-europoort-5/
LOCATION:EC Europoort\, Nieuwe Binnenweg 324-326\, Rotterdam\, Nederland
CATEGORIES:Spreekbeurten
END:VEVENT
BEGIN:VEVENT
DTSTART;TZID=UTC:20200418T100000
DTEND;TZID=UTC:20200418T160000
DTSTAMP:20260422T221222
CREATED:20190307T124044Z
LAST-MODIFIED:20190307T124044Z
UID:7581-1587204000-1587225600@hrtlink.nl
SUMMARY:Shine - Europoort International
DESCRIPTION:
URL:https://hrtlink.nl/event/shine-europoort-international/
LOCATION:EC Europoort\, Nieuwe Binnenweg 324-326\, Rotterdam\, Nederland
CATEGORIES:Spreekbeurten
END:VEVENT
BEGIN:VEVENT
DTSTART;TZID=UTC:20200412T100000
DTEND;TZID=UTC:20200412T113000
DTSTAMP:20260422T221222
CREATED:20190307T123631Z
LAST-MODIFIED:20190307T123631Z
UID:7579-1586685600-1586691000@hrtlink.nl
SUMMARY:Pinkstergemeente De Banier
DESCRIPTION:
URL:https://hrtlink.nl/event/pinkstergemeente-de-banier-4/
LOCATION:PG De Banier\, Hofkampstraat 169\, Almelo
CATEGORIES:Spreekbeurten
END:VEVENT
BEGIN:VEVENT
DTSTART;TZID=UTC:20200411T100000
DTEND;TZID=UTC:20200411T120000
DTSTAMP:20260422T221222
CREATED:20200206T131551Z
LAST-MODIFIED:20200206T131551Z
UID:7819-1586599200-1586606400@hrtlink.nl
SUMMARY:Kom & Zie Rotterdam - leidersochtend
DESCRIPTION:
URL:https://hrtlink.nl/event/kom-zie-rotterdam-leidersochtend/
LOCATION:PG Kom en Zie\, Boezemweg 166\, Rotterdam
CATEGORIES:Spreekbeurten
END:VEVENT
BEGIN:VEVENT
DTSTART;TZID=UTC:20200405T100000
DTEND;TZID=UTC:20200405T113000
DTSTAMP:20260422T221222
CREATED:20190307T123424Z
LAST-MODIFIED:20190307T123424Z
UID:7576-1586080800-1586086200@hrtlink.nl
SUMMARY:Stadskerk De Wijngaard
DESCRIPTION:
URL:https://hrtlink.nl/event/stadskerk-de-wijngaard/
LOCATION:Stadskerk De Wijngaard\, Mr. P.J. Troelstraweg 147a\, Leeuwarden\, Nederland
CATEGORIES:Spreekbeurten
END:VEVENT
BEGIN:VEVENT
DTSTART;TZID=UTC:20200329T100000
DTEND;TZID=UTC:20200329T113000
DTSTAMP:20260422T221222
CREATED:20190307T123209Z
LAST-MODIFIED:20190307T123209Z
UID:7574-1585476000-1585481400@hrtlink.nl
SUMMARY:EG Maranatha Maassluis
DESCRIPTION:
URL:https://hrtlink.nl/event/eg-maranatha-maassluis/
LOCATION:EG Maranatha\, G.A. Brederolaan 49\, Maassluis\, Nederland
CATEGORIES:Spreekbeurten
ORGANIZER;CN="EG Maranatha":MAILTO:https://www.egma.nl/contact/
END:VEVENT
BEGIN:VEVENT
DTSTART;TZID=UTC:20200327T193000
DTEND;TZID=UTC:20200327T220000
DTSTAMP:20260422T221222
CREATED:20200206T132024Z
LAST-MODIFIED:20200206T132024Z
UID:7821-1585337400-1585346400@hrtlink.nl
SUMMARY:Prayer Awakening Groningen
DESCRIPTION:
URL:https://hrtlink.nl/event/prayer-awakening-groningen/
LOCATION:VBG De Stadskerk\, Friesestraatweg 221\, Groningen\, Nederland
CATEGORIES:Spreekbeurten
END:VEVENT
BEGIN:VEVENT
DTSTART;TZID=UTC:20200322T100000
DTEND;TZID=UTC:20200322T113000
DTSTAMP:20260422T221222
CREATED:20190307T104804Z
LAST-MODIFIED:20190307T104804Z
UID:7566-1584871200-1584876600@hrtlink.nl
SUMMARY:CG Shekinah Assen
DESCRIPTION:
URL:https://hrtlink.nl/event/cg-shekinah-assen/
LOCATION:CG Shekinah\, Witterhoofdweg 1a\, Assen\, Nederland
CATEGORIES:Spreekbeurten
END:VEVENT
BEGIN:VEVENT
DTSTART;TZID=UTC:20200315T100000
DTEND;TZID=UTC:20200315T113000
DTSTAMP:20260422T221222
CREATED:20190307T104123Z
LAST-MODIFIED:20190307T104123Z
UID:7564-1584266400-1584271800@hrtlink.nl
SUMMARY:De Ark Langedijk
DESCRIPTION:
URL:https://hrtlink.nl/event/de-ark-langedijk/
LOCATION:De Ark\, Theater De Binding\, Bosgroet 12\, Zuid-Scharwoude\, Nederland
CATEGORIES:Spreekbeurten
END:VEVENT
BEGIN:VEVENT
DTSTART;TZID=UTC:20200314T100000
DTEND;TZID=UTC:20200314T170000
DTSTAMP:20260422T221222
CREATED:20200206T131104Z
LAST-MODIFIED:20200206T131104Z
UID:7815-1584180000-1584205200@hrtlink.nl
SUMMARY:Vrij Zijn Bijbelschool - praktijkdag
DESCRIPTION:‘Gods stem leren verstaan’
URL:https://hrtlink.nl/event/vrij-zijn-bijbelschool-praktijkdag-2/
LOCATION:Gebouw De Akker\, Reehorsterweg 88\, Ede\, Nederland
CATEGORIES:Spreekbeurten
END:VEVENT
BEGIN:VEVENT
DTSTART;TZID=UTC:20200308T093000
DTEND;TZID=UTC:20200308T130000
DTSTAMP:20260422T221222
CREATED:20190307T103813Z
LAST-MODIFIED:20190307T103813Z
UID:7562-1583659800-1583672400@hrtlink.nl
SUMMARY:Shelter Haarlem
DESCRIPTION:
URL:https://hrtlink.nl/event/shelter-haarlem-59/
LOCATION:TRIBE\, Eksterlaan 1\, Haarlem
CATEGORIES:Spreekbeurten
END:VEVENT
BEGIN:VEVENT
DTSTART;TZID=UTC:20200304T194500
DTEND;TZID=UTC:20200304T220000
DTSTAMP:20260422T221222
CREATED:20200206T133834Z
LAST-MODIFIED:20200206T133834Z
UID:7827-1583351100-1583359200@hrtlink.nl
SUMMARY:Royal Mission Parttime School
DESCRIPTION:
URL:https://hrtlink.nl/event/royal-mission-parttime-school-20/
LOCATION:Royal Mission Veenendaal\, De Schutterij 10\, Veenendaal\, Nederland
CATEGORIES:Spreekbeurten
END:VEVENT
BEGIN:VEVENT
DTSTART;TZID=UTC:20200301T100000
DTEND;TZID=UTC:20200301T113000
DTSTAMP:20260422T221222
CREATED:20190307T103720Z
LAST-MODIFIED:20190307T103720Z
UID:7560-1583056800-1583062200@hrtlink.nl
SUMMARY:Christengemeente Hardinxveld-Giessendam
DESCRIPTION:
URL:https://hrtlink.nl/event/christengemeente-hardinxveld-giessendam/
LOCATION:Christengemeente\, Breedewaij 1a\, Hardinxveld-Giessendam
CATEGORIES:Spreekbeurten
END:VEVENT
BEGIN:VEVENT
DTSTART;TZID=UTC:20200229T093000
DTEND;TZID=UTC:20200229T160000
DTSTAMP:20260422T221222
CREATED:20190510T091731Z
LAST-MODIFIED:20190510T091731Z
UID:7679-1582968600-1582992000@hrtlink.nl
SUMMARY:Conferentie Vaderhart van God
DESCRIPTION:
URL:https://hrtlink.nl/event/conferentie-vaderhart-van-god/
LOCATION:De Lantearne\, Jan Binneslaan 49\, Surhuisterveen\, Nederland
CATEGORIES:Spreekbeurten
END:VEVENT
BEGIN:VEVENT
DTSTART;TZID=UTC:20200223T103000
DTEND;TZID=UTC:20200223T120000
DTSTAMP:20260422T221222
CREATED:20190509T113724Z
LAST-MODIFIED:20190509T113724Z
UID:7667-1582453800-1582459200@hrtlink.nl
SUMMARY:Oase
DESCRIPTION:
URL:https://hrtlink.nl/event/oase-2/
LOCATION:Oase\, G.C. van Balen Blankenstraat 11\, Anna Paulowna\, Nederland
CATEGORIES:Spreekbeurten
END:VEVENT
BEGIN:VEVENT
DTSTART;TZID=UTC:20200219T193000
DTEND;TZID=UTC:20200219T213000
DTSTAMP:20260422T221222
CREATED:20191220T111216Z
LAST-MODIFIED:20191220T111216Z
UID:7801-1582140600-1582147800@hrtlink.nl
SUMMARY:Royal Mission Parttime School
DESCRIPTION:
URL:https://hrtlink.nl/event/royal-mission-parttime-school-19/
LOCATION:Royal Mission Veenendaal\, De Schutterij 10\, Veenendaal\, Nederland
CATEGORIES:Spreekbeurten
END:VEVENT
BEGIN:VEVENT
DTSTART;VALUE=DATE:20200214
DTEND;VALUE=DATE:20200216
DTSTAMP:20260422T221222
CREATED:20190307T103010Z
LAST-MODIFIED:20190307T103010Z
UID:7557-1581638400-1581811199@hrtlink.nl
SUMMARY:Vrij Zijn Weekend
DESCRIPTION:
URL:https://hrtlink.nl/event/vrij-zijn-weekend-14/
LOCATION:De Betteld\, Aaltenseweg 11\, Zelhem
CATEGORIES:Spreekbeurten
END:VEVENT
BEGIN:VEVENT
DTSTART;TZID=UTC:20200202T100000
DTEND;TZID=UTC:20200202T113000
DTSTAMP:20260422T221222
CREATED:20190307T102532Z
LAST-MODIFIED:20190307T102532Z
UID:7551-1580637600-1580643000@hrtlink.nl
SUMMARY:EG Jozua Dordrecht
DESCRIPTION:
URL:https://hrtlink.nl/event/eg-jozua-dordrecht/
LOCATION:EG Jozua\, Sikkelstraat 2\, Dordrecht\, Nederland
CATEGORIES:Spreekbeurten
END:VEVENT
BEGIN:VEVENT
DTSTART;TZID=UTC:20200201T100000
DTEND;TZID=UTC:20200201T160000
DTSTAMP:20260422T221222
CREATED:20191220T105315Z
LAST-MODIFIED:20191220T105315Z
UID:7797-1580551200-1580572800@hrtlink.nl
SUMMARY:School voor Leiders - Royal Mission
DESCRIPTION:
URL:https://hrtlink.nl/event/school-voor-leiders-royal-mission-2/
LOCATION:Het Brandpunt\, Postweg 18\, Doorn\, Nederland
CATEGORIES:Spreekbeurten
ORGANIZER;CN="Royal Mission School voor Leiders":MAILTO:https://www.royalmission.nl/slide/opleiding-school-voor-leiders-2019-2020/school-voor-leiders/
END:VEVENT
BEGIN:VEVENT
DTSTART;TZID=UTC:20200126T103000
DTEND;TZID=UTC:20200126T120000
DTSTAMP:20260422T221222
CREATED:20190307T132440Z
LAST-MODIFIED:20190307T132440Z
UID:7631-1580034600-1580040000@hrtlink.nl
SUMMARY:Hanzekerk Nijmegen
DESCRIPTION:
URL:https://hrtlink.nl/event/hanzekerk-nijmegen/
LOCATION:Hanzekerk\, Heyendaalseweg 239\, Nijmegen\, Nederland
CATEGORIES:Spreekbeurten
END:VEVENT
BEGIN:VEVENT
DTSTART;TZID=UTC:20200125T123000
DTEND;TZID=UTC:20200125T220000
DTSTAMP:20260422T221222
CREATED:20191220T104634Z
LAST-MODIFIED:20191220T104634Z
UID:7792-1579955400-1579989600@hrtlink.nl
SUMMARY:Landelijke Ondernemersdag 4e Musketier
DESCRIPTION:
URL:https://hrtlink.nl/event/landelijke-ondernemersdag-4e-musketier/
LOCATION:Vliegveld Twente\, Vliegveldweg 345\, Enschede\, Nederland
CATEGORIES:Spreekbeurten
END:VEVENT
BEGIN:VEVENT
DTSTART;TZID=UTC:20200119T103000
DTEND;TZID=UTC:20200119T120000
DTSTAMP:20260422T221222
CREATED:20190307T102357Z
LAST-MODIFIED:20190307T102357Z
UID:7549-1579429800-1579435200@hrtlink.nl
SUMMARY:EG De Schuilplaats
DESCRIPTION:
URL:https://hrtlink.nl/event/eg-de-schuilplaats-4/
LOCATION:De Schuilplaats Ede\, Otterloseweg 18-A\, Ede
CATEGORIES:Spreekbeurten
END:VEVENT
BEGIN:VEVENT
DTSTART;TZID=UTC:20200112T100000
DTEND;TZID=UTC:20200112T113000
DTSTAMP:20260422T221222
CREATED:20190307T102213Z
LAST-MODIFIED:20190307T102213Z
UID:7547-1578823200-1578828600@hrtlink.nl
SUMMARY:Sefanja
DESCRIPTION:
URL:https://hrtlink.nl/event/shelter-haarlem-58/
LOCATION:Christengemeente Sefanja\, Stationslaan 21\, Harderwijk\, Nederland
CATEGORIES:Spreekbeurten
END:VEVENT
BEGIN:VEVENT
DTSTART;TZID=UTC:20200105T193000
DTEND;TZID=UTC:20200105T210000
DTSTAMP:20260422T221222
CREATED:20191220T103503Z
LAST-MODIFIED:20191220T103503Z
UID:7787-1578252600-1578258000@hrtlink.nl
SUMMARY:Vrije Baptisten Gemeente Enkhuizen
DESCRIPTION:
URL:https://hrtlink.nl/event/vrije-baptisten-gemeente-enkhuizen/
LOCATION:RSG\, Boendersveld 3\, Enkhuizen\, Nederland
CATEGORIES:Spreekbeurten
END:VEVENT
BEGIN:VEVENT
DTSTART;TZID=UTC:20200105T100000
DTEND;TZID=UTC:20200105T123000
DTSTAMP:20260422T221222
CREATED:20190314T084638Z
LAST-MODIFIED:20190314T084638Z
UID:7650-1578218400-1578227400@hrtlink.nl
SUMMARY:De Bazuin Familiekerk
DESCRIPTION:
URL:https://hrtlink.nl/event/de-bazuin-familiekerk/
LOCATION:De Bazuin\, Nedereindseweg 4\, Nieuwegein\, Nederland
CATEGORIES:Spreekbeurten
END:VEVENT
BEGIN:VEVENT
DTSTART;TZID=UTC:20191224T223000
DTEND;TZID=UTC:20191224T233000
DTSTAMP:20260422T221222
CREATED:20180807T095945Z
LAST-MODIFIED:20180807T095945Z
UID:7392-1577226600-1577230200@hrtlink.nl
SUMMARY:Floradienst: Kerstnachtdienst Rijnsburg
DESCRIPTION:
URL:https://hrtlink.nl/event/floradienst-kerstnachtdienst-rijnsburg/
LOCATION:Royal Flora Holland\, Laan van Verhof 3\, Rijnsburg\, Nederland
CATEGORIES:Spreekbeurten
END:VEVENT
BEGIN:VEVENT
DTSTART;TZID=UTC:20191215T100000
DTEND;TZID=UTC:20191215T113000
DTSTAMP:20260422T221222
CREATED:20180807T095627Z
LAST-MODIFIED:20180807T095627Z
UID:7388-1576404000-1576409400@hrtlink.nl
SUMMARY:Jubilee Oosterhout
DESCRIPTION:
URL:https://hrtlink.nl/event/jubilee-oosterhout/
LOCATION:Hanze College\, Bouwlingstraat 74\, Oosterhout (NB)\, Nederland
CATEGORIES:Spreekbeurten
END:VEVENT
END:VCALENDAR