BEGIN:VCALENDAR
VERSION:2.0
PRODID:-//Hrtlink - ECPv6.15.18//NONSGML v1.0//EN
CALSCALE:GREGORIAN
METHOD:PUBLISH
X-WR-CALNAME:Hrtlink
X-ORIGINAL-URL:https://hrtlink.nl
X-WR-CALDESC:Evenementen voor Hrtlink
REFRESH-INTERVAL;VALUE=DURATION:PT1H
X-Robots-Tag:noindex
X-PUBLISHED-TTL:PT1H
BEGIN:VTIMEZONE
TZID:UTC
BEGIN:STANDARD
TZOFFSETFROM:+0000
TZOFFSETTO:+0000
TZNAME:UTC
DTSTART:20180101T000000
END:STANDARD
END:VTIMEZONE
BEGIN:VEVENT
DTSTART;TZID=UTC:20200223T103000
DTEND;TZID=UTC:20200223T120000
DTSTAMP:20260422T190751
CREATED:20190509T113724Z
LAST-MODIFIED:20190509T113724Z
UID:7667-1582453800-1582459200@hrtlink.nl
SUMMARY:Oase
DESCRIPTION:
URL:https://hrtlink.nl/event/oase-2/
LOCATION:Oase\, G.C. van Balen Blankenstraat 11\, Anna Paulowna\, Nederland
CATEGORIES:Spreekbeurten
END:VEVENT
BEGIN:VEVENT
DTSTART;TZID=UTC:20200219T193000
DTEND;TZID=UTC:20200219T213000
DTSTAMP:20260422T190751
CREATED:20191220T111216Z
LAST-MODIFIED:20191220T111216Z
UID:7801-1582140600-1582147800@hrtlink.nl
SUMMARY:Royal Mission Parttime School
DESCRIPTION:
URL:https://hrtlink.nl/event/royal-mission-parttime-school-19/
LOCATION:Royal Mission Veenendaal\, De Schutterij 10\, Veenendaal\, Nederland
CATEGORIES:Spreekbeurten
END:VEVENT
BEGIN:VEVENT
DTSTART;VALUE=DATE:20200214
DTEND;VALUE=DATE:20200216
DTSTAMP:20260422T190751
CREATED:20190307T103010Z
LAST-MODIFIED:20190307T103010Z
UID:7557-1581638400-1581811199@hrtlink.nl
SUMMARY:Vrij Zijn Weekend
DESCRIPTION:
URL:https://hrtlink.nl/event/vrij-zijn-weekend-14/
LOCATION:De Betteld\, Aaltenseweg 11\, Zelhem
CATEGORIES:Spreekbeurten
END:VEVENT
BEGIN:VEVENT
DTSTART;TZID=UTC:20200202T100000
DTEND;TZID=UTC:20200202T113000
DTSTAMP:20260422T190751
CREATED:20190307T102532Z
LAST-MODIFIED:20190307T102532Z
UID:7551-1580637600-1580643000@hrtlink.nl
SUMMARY:EG Jozua Dordrecht
DESCRIPTION:
URL:https://hrtlink.nl/event/eg-jozua-dordrecht/
LOCATION:EG Jozua\, Sikkelstraat 2\, Dordrecht\, Nederland
CATEGORIES:Spreekbeurten
END:VEVENT
BEGIN:VEVENT
DTSTART;TZID=UTC:20200201T100000
DTEND;TZID=UTC:20200201T160000
DTSTAMP:20260422T190751
CREATED:20191220T105315Z
LAST-MODIFIED:20191220T105315Z
UID:7797-1580551200-1580572800@hrtlink.nl
SUMMARY:School voor Leiders - Royal Mission
DESCRIPTION:
URL:https://hrtlink.nl/event/school-voor-leiders-royal-mission-2/
LOCATION:Het Brandpunt\, Postweg 18\, Doorn\, Nederland
CATEGORIES:Spreekbeurten
ORGANIZER;CN="Royal Mission School voor Leiders":MAILTO:https://www.royalmission.nl/slide/opleiding-school-voor-leiders-2019-2020/school-voor-leiders/
END:VEVENT
BEGIN:VEVENT
DTSTART;TZID=UTC:20200126T103000
DTEND;TZID=UTC:20200126T120000
DTSTAMP:20260422T190751
CREATED:20190307T132440Z
LAST-MODIFIED:20190307T132440Z
UID:7631-1580034600-1580040000@hrtlink.nl
SUMMARY:Hanzekerk Nijmegen
DESCRIPTION:
URL:https://hrtlink.nl/event/hanzekerk-nijmegen/
LOCATION:Hanzekerk\, Heyendaalseweg 239\, Nijmegen\, Nederland
CATEGORIES:Spreekbeurten
END:VEVENT
BEGIN:VEVENT
DTSTART;TZID=UTC:20200125T123000
DTEND;TZID=UTC:20200125T220000
DTSTAMP:20260422T190751
CREATED:20191220T104634Z
LAST-MODIFIED:20191220T104634Z
UID:7792-1579955400-1579989600@hrtlink.nl
SUMMARY:Landelijke Ondernemersdag 4e Musketier
DESCRIPTION:
URL:https://hrtlink.nl/event/landelijke-ondernemersdag-4e-musketier/
LOCATION:Vliegveld Twente\, Vliegveldweg 345\, Enschede\, Nederland
CATEGORIES:Spreekbeurten
END:VEVENT
BEGIN:VEVENT
DTSTART;TZID=UTC:20200119T103000
DTEND;TZID=UTC:20200119T120000
DTSTAMP:20260422T190751
CREATED:20190307T102357Z
LAST-MODIFIED:20190307T102357Z
UID:7549-1579429800-1579435200@hrtlink.nl
SUMMARY:EG De Schuilplaats
DESCRIPTION:
URL:https://hrtlink.nl/event/eg-de-schuilplaats-4/
LOCATION:De Schuilplaats Ede\, Otterloseweg 18-A\, Ede
CATEGORIES:Spreekbeurten
END:VEVENT
BEGIN:VEVENT
DTSTART;TZID=UTC:20200112T100000
DTEND;TZID=UTC:20200112T113000
DTSTAMP:20260422T190751
CREATED:20190307T102213Z
LAST-MODIFIED:20190307T102213Z
UID:7547-1578823200-1578828600@hrtlink.nl
SUMMARY:Sefanja
DESCRIPTION:
URL:https://hrtlink.nl/event/shelter-haarlem-58/
LOCATION:Christengemeente Sefanja\, Stationslaan 21\, Harderwijk\, Nederland
CATEGORIES:Spreekbeurten
END:VEVENT
BEGIN:VEVENT
DTSTART;TZID=UTC:20200105T193000
DTEND;TZID=UTC:20200105T210000
DTSTAMP:20260422T190751
CREATED:20191220T103503Z
LAST-MODIFIED:20191220T103503Z
UID:7787-1578252600-1578258000@hrtlink.nl
SUMMARY:Vrije Baptisten Gemeente Enkhuizen
DESCRIPTION:
URL:https://hrtlink.nl/event/vrije-baptisten-gemeente-enkhuizen/
LOCATION:RSG\, Boendersveld 3\, Enkhuizen\, Nederland
CATEGORIES:Spreekbeurten
END:VEVENT
BEGIN:VEVENT
DTSTART;TZID=UTC:20200105T100000
DTEND;TZID=UTC:20200105T123000
DTSTAMP:20260422T190751
CREATED:20190314T084638Z
LAST-MODIFIED:20190314T084638Z
UID:7650-1578218400-1578227400@hrtlink.nl
SUMMARY:De Bazuin Familiekerk
DESCRIPTION:
URL:https://hrtlink.nl/event/de-bazuin-familiekerk/
LOCATION:De Bazuin\, Nedereindseweg 4\, Nieuwegein\, Nederland
CATEGORIES:Spreekbeurten
END:VEVENT
BEGIN:VEVENT
DTSTART;TZID=UTC:20191224T223000
DTEND;TZID=UTC:20191224T233000
DTSTAMP:20260422T190751
CREATED:20180807T095945Z
LAST-MODIFIED:20180807T095945Z
UID:7392-1577226600-1577230200@hrtlink.nl
SUMMARY:Floradienst: Kerstnachtdienst Rijnsburg
DESCRIPTION:
URL:https://hrtlink.nl/event/floradienst-kerstnachtdienst-rijnsburg/
LOCATION:Royal Flora Holland\, Laan van Verhof 3\, Rijnsburg\, Nederland
CATEGORIES:Spreekbeurten
END:VEVENT
BEGIN:VEVENT
DTSTART;TZID=UTC:20191215T100000
DTEND;TZID=UTC:20191215T113000
DTSTAMP:20260422T190751
CREATED:20180807T095627Z
LAST-MODIFIED:20180807T095627Z
UID:7388-1576404000-1576409400@hrtlink.nl
SUMMARY:Jubilee Oosterhout
DESCRIPTION:
URL:https://hrtlink.nl/event/jubilee-oosterhout/
LOCATION:Hanze College\, Bouwlingstraat 74\, Oosterhout (NB)\, Nederland
CATEGORIES:Spreekbeurten
END:VEVENT
BEGIN:VEVENT
DTSTART;TZID=UTC:20191117T100000
DTEND;TZID=UTC:20191117T113000
DTSTAMP:20260422T190751
CREATED:20180807T093330Z
LAST-MODIFIED:20180807T093330Z
UID:7368-1573984800-1573990200@hrtlink.nl
SUMMARY:EG Zeewolde
DESCRIPTION:
URL:https://hrtlink.nl/event/eg-zeewolde-5/
LOCATION:RSG Levant\, Kluunpad 15\, Zeewolde\, Nederland
CATEGORIES:Spreekbeurten
END:VEVENT
BEGIN:VEVENT
DTSTART;TZID=UTC:20191110T100000
DTEND;TZID=UTC:20191110T113000
DTSTAMP:20260422T190751
CREATED:20180807T092957Z
LAST-MODIFIED:20180807T092957Z
UID:7366-1573380000-1573385400@hrtlink.nl
SUMMARY:De Wijngaard
DESCRIPTION:
URL:https://hrtlink.nl/event/de-wijngaard/
LOCATION:World Trade Center\, Heliconweg 52\, Leeuwarden\, Nederland
CATEGORIES:Spreekbeurten
END:VEVENT
BEGIN:VEVENT
DTSTART;TZID=UTC:20191027T093000
DTEND;TZID=UTC:20191027T130000
DTSTAMP:20260422T190751
CREATED:20180803T100259Z
LAST-MODIFIED:20180803T100259Z
UID:7358-1572168600-1572181200@hrtlink.nl
SUMMARY:Mozaïek0318
DESCRIPTION:
URL:https://hrtlink.nl/event/mozaiek0318/
LOCATION:De Basiliek\, Wiltonstraat 59\, Veenendaal\, Nederland
CATEGORIES:Spreekbeurten
END:VEVENT
BEGIN:VEVENT
DTSTART;TZID=UTC:20191025T193000
DTEND;TZID=UTC:20191025T213000
DTSTAMP:20260422T190751
CREATED:20190910T074143Z
LAST-MODIFIED:20190910T074143Z
UID:7754-1572031800-1572039000@hrtlink.nl
SUMMARY:Presence Tour 2019
DESCRIPTION:
URL:https://hrtlink.nl/event/presence-tour-2019-2/
LOCATION:Grote Kerk Den Bosch\, Kerkstraat 20\, Den Bosch
CATEGORIES:Spreekbeurten
END:VEVENT
BEGIN:VEVENT
DTSTART;TZID=UTC:20191024T080000
DTEND;TZID=UTC:20191024T170000
DTSTAMP:20260422T190751
CREATED:20190910T073938Z
LAST-MODIFIED:20190910T073938Z
UID:7747-1571904000-1571936400@hrtlink.nl
SUMMARY:Presence Tour 2019
DESCRIPTION:
URL:https://hrtlink.nl/event/presence-tour-2019/
LOCATION:Sint Janskerk Maastricht\, Vrijthof 24\, Maastricht\, Nederland
CATEGORIES:Spreekbeurten
END:VEVENT
BEGIN:VEVENT
DTSTART;TZID=UTC:20191020T100000
DTEND;TZID=UTC:20191020T120000
DTSTAMP:20260422T190751
CREATED:20180803T100131Z
LAST-MODIFIED:20180803T100131Z
UID:7354-1571565600-1571572800@hrtlink.nl
SUMMARY:Levend Evangelie Gemeente
DESCRIPTION:
URL:https://hrtlink.nl/event/levend-evangelie-gemeente-2/
LOCATION:De Leg\, Kruisweg 55\, Aalsmeerderbrug\, Nederland
CATEGORIES:Spreekbeurten
END:VEVENT
BEGIN:VEVENT
DTSTART;TZID=UTC:20191016T193000
DTEND;TZID=UTC:20191016T213000
DTSTAMP:20260422T190751
CREATED:20190910T073435Z
LAST-MODIFIED:20190910T073435Z
UID:7739-1571254200-1571261400@hrtlink.nl
SUMMARY:St. Jansgemeente Gouda
DESCRIPTION:
URL:https://hrtlink.nl/event/st-jansgemeente-gouda/
LOCATION:Goudse Sint-Jan\, Achter de kerk 16\, Gouda\, Nederland
CATEGORIES:Spreekbeurten
END:VEVENT
BEGIN:VEVENT
DTSTART;TZID=UTC:20191013T100000
DTEND;TZID=UTC:20191013T113000
DTSTAMP:20260422T190751
CREATED:20180809T082902Z
LAST-MODIFIED:20180809T082902Z
UID:7402-1570960800-1570966200@hrtlink.nl
SUMMARY:Pinkstergemeente De Banier
DESCRIPTION:
URL:https://hrtlink.nl/event/pinkstergemeente-de-banier-3/
LOCATION:PG De Banier\, Hofkampstraat 169\, Almelo
CATEGORIES:Spreekbeurten
END:VEVENT
BEGIN:VEVENT
DTSTART;VALUE=DATE:20191004
DTEND;VALUE=DATE:20191006
DTSTAMP:20260422T190751
CREATED:20181120T110808Z
LAST-MODIFIED:20181120T110808Z
UID:7460-1570147200-1570319999@hrtlink.nl
SUMMARY:Vrij Zijn Weekend
DESCRIPTION:
URL:https://hrtlink.nl/event/vrij-zijn-weekend-13/
LOCATION:De Betteld\, Aaltenseweg 11\, Zelhem
CATEGORIES:Spreekbeurten
END:VEVENT
BEGIN:VEVENT
DTSTART;TZID=UTC:20190929T093000
DTEND;TZID=UTC:20190929T130000
DTSTAMP:20260422T190751
CREATED:20180803T094750Z
LAST-MODIFIED:20180803T094750Z
UID:7348-1569749400-1569762000@hrtlink.nl
SUMMARY:Shelter Haarlem
DESCRIPTION:
URL:https://hrtlink.nl/event/shelter-haarlem-55/
LOCATION:TRIBE\, Eksterlaan 1\, Haarlem
CATEGORIES:Spreekbeurten
END:VEVENT
BEGIN:VEVENT
DTSTART;TZID=UTC:20190922T170000
DTEND;TZID=UTC:20190922T193000
DTSTAMP:20260422T190751
CREATED:20180803T095354Z
LAST-MODIFIED:20180803T095354Z
UID:7350-1569171600-1569180600@hrtlink.nl
SUMMARY:Boeketdienst Rijnsburg
DESCRIPTION:
URL:https://hrtlink.nl/event/boeketdienst-rijnsburg/
LOCATION:Immanuelkerk\, Kerkstraat 3\, Rijnsburg\, Nederland
CATEGORIES:Spreekbeurten
END:VEVENT
BEGIN:VEVENT
DTSTART;TZID=UTC:20190922T100000
DTEND;TZID=UTC:20190922T120000
DTSTAMP:20260422T190751
CREATED:20180803T094641Z
LAST-MODIFIED:20180803T094641Z
UID:7344-1569146400-1569153600@hrtlink.nl
SUMMARY:Rafaël Amersfoort
DESCRIPTION:
URL:https://hrtlink.nl/event/rafael-amersfoort-5/
LOCATION:Rafael Amersfoort\, Kosmonaut 2\, Amersfoort\, Nederland
CATEGORIES:Spreekbeurten
END:VEVENT
BEGIN:VEVENT
DTSTART;TZID=UTC:20190919T193000
DTEND;TZID=UTC:20190919T213000
DTSTAMP:20260422T190751
CREATED:20190604T114212Z
LAST-MODIFIED:20190604T114212Z
UID:7699-1568921400-1568928600@hrtlink.nl
SUMMARY:Seminar - De Ark Langedijk
DESCRIPTION:‘Het Bouwen van gezonde teams’
URL:https://hrtlink.nl/event/seminar-de-ark-langedijk/
LOCATION:De Ark Base\, 2e Industriestraat 17\, Noord-Scharwoude\, Nederland
CATEGORIES:Spreekbeurten
END:VEVENT
BEGIN:VEVENT
DTSTART;TZID=UTC:20190915T100000
DTEND;TZID=UTC:20190915T113000
DTSTAMP:20260422T190751
CREATED:20190510T081847Z
LAST-MODIFIED:20190510T081847Z
UID:7675-1568541600-1568547000@hrtlink.nl
SUMMARY:GODcentre Gouda
DESCRIPTION:
URL:https://hrtlink.nl/event/godcentre-gouda/
LOCATION:Cultuurhuis Garenspinnerij\, Turfsingel 34\, Gouda\, Nederland
CATEGORIES:Spreekbeurten
END:VEVENT
BEGIN:VEVENT
DTSTART;TZID=UTC:20190914T083000
DTEND;TZID=UTC:20190914T170000
DTSTAMP:20260422T190751
CREATED:20180809T082503Z
LAST-MODIFIED:20180809T082503Z
UID:7398-1568449800-1568480400@hrtlink.nl
SUMMARY:School of Supernatural Heroes
DESCRIPTION:
URL:https://hrtlink.nl/event/school-of-supernatural-heroes-2/
LOCATION:Hart van Holland\, Berencamperweg 12\, Nijkerk\, Nederland
CATEGORIES:Spreekbeurten
END:VEVENT
BEGIN:VEVENT
DTSTART;TZID=UTC:20190911T200000
DTEND;TZID=UTC:20190911T220000
DTSTAMP:20260422T190751
CREATED:20190531T094659Z
LAST-MODIFIED:20190531T094659Z
UID:7693-1568232000-1568239200@hrtlink.nl
SUMMARY:Hanzekerk Nijmegen
DESCRIPTION:
URL:https://hrtlink.nl/event/hanzekerk-nijmegen-2/
LOCATION:Kolpinghuis\, Smetiusstraat 1\, Nijmegen\, Nederland
CATEGORIES:Spreekbeurten
END:VEVENT
BEGIN:VEVENT
DTSTART;TZID=UTC:20190908T103000
DTEND;TZID=UTC:20190908T123000
DTSTAMP:20260422T190751
CREATED:20180803T093904Z
LAST-MODIFIED:20180803T093904Z
UID:7340-1567938600-1567945800@hrtlink.nl
SUMMARY:De Schuilplaats
DESCRIPTION:
URL:https://hrtlink.nl/event/de-schuilplaats-3/
LOCATION:De Schuilplaats Ede\, Otterloseweg 18-A\, Ede
CATEGORIES:Spreekbeurten
END:VEVENT
END:VCALENDAR