BEGIN:VCALENDAR
VERSION:2.0
PRODID:-//Hrtlink - ECPv6.15.18//NONSGML v1.0//EN
CALSCALE:GREGORIAN
METHOD:PUBLISH
X-WR-CALNAME:Hrtlink
X-ORIGINAL-URL:https://hrtlink.nl
X-WR-CALDESC:Evenementen voor Hrtlink
REFRESH-INTERVAL;VALUE=DURATION:PT1H
X-Robots-Tag:noindex
X-PUBLISHED-TTL:PT1H
BEGIN:VTIMEZONE
TZID:UTC
BEGIN:STANDARD
TZOFFSETFROM:+0000
TZOFFSETTO:+0000
TZNAME:UTC
DTSTART:20190101T000000
END:STANDARD
END:VTIMEZONE
BEGIN:VEVENT
DTSTART;TZID=UTC:20201114T100000
DTEND;TZID=UTC:20201114T160000
DTSTAMP:20260420T225509
CREATED:20200508T100100Z
LAST-MODIFIED:20200508T100100Z
UID:7874-1605348000-1605369600@hrtlink.nl
SUMMARY:Huwelijksdag 'Liefde van mijn Leven'
DESCRIPTION:
URL:https://hrtlink.nl/event/huwelijksdag-liefde-van-mijn-leven/
LOCATION:De Basiliek\, Wiltonstraat 59\, Veenendaal\, Nederland
CATEGORIES:Spreekbeurten
END:VEVENT
BEGIN:VEVENT
DTSTART;TZID=UTC:20201108T093000
DTEND;TZID=UTC:20201108T130000
DTSTAMP:20260420T225509
CREATED:20190307T132152Z
LAST-MODIFIED:20190307T132152Z
UID:7629-1604827800-1604840400@hrtlink.nl
SUMMARY:Shelter Haarlem
DESCRIPTION:
URL:https://hrtlink.nl/event/shelter-haarlem-63/
LOCATION:TRIBE\, Eksterlaan 1\, Haarlem
CATEGORIES:Spreekbeurten
END:VEVENT
BEGIN:VEVENT
DTSTART;TZID=UTC:20201101T103000
DTEND;TZID=UTC:20201101T120000
DTSTAMP:20260420T225509
CREATED:20201027T082225Z
LAST-MODIFIED:20201027T082225Z
UID:8030-1604226600-1604232000@hrtlink.nl
SUMMARY:VEG De Ark Middenmeer
DESCRIPTION:
URL:https://hrtlink.nl/event/veg-de-ark-middenmeer/
LOCATION:VEG De Ark\, Kerkring 1a\, Middenmeer\, Nederland
CATEGORIES:Spreekbeurten
END:VEVENT
BEGIN:VEVENT
DTSTART;TZID=UTC:20201025T170000
DTEND;TZID=UTC:20201025T190000
DTSTAMP:20260420T225509
CREATED:20190312T124522Z
LAST-MODIFIED:20190312T124522Z
UID:7647-1603645200-1603652400@hrtlink.nl
SUMMARY:Boeketdienst Rijnsburg
DESCRIPTION:
URL:https://hrtlink.nl/event/boeketdienst-rijnsburg-2/
LOCATION:Immanuelkerk\, Kerkstraat 3\, Rijnsburg\, Nederland
CATEGORIES:Spreekbeurten
END:VEVENT
BEGIN:VEVENT
DTSTART;TZID=UTC:20201018T100000
DTEND;TZID=UTC:20201018T120000
DTSTAMP:20260420T225509
CREATED:20190307T131956Z
LAST-MODIFIED:20190307T131956Z
UID:7625-1603015200-1603022400@hrtlink.nl
SUMMARY:Pinkstergemeente De Banier
DESCRIPTION:
URL:https://hrtlink.nl/event/pinkstergemeente-de-banier-5/
LOCATION:PG De Banier\, Hofkampstraat 169\, Almelo
CATEGORIES:Spreekbeurten
END:VEVENT
BEGIN:VEVENT
DTSTART;TZID=UTC:20201016T093000
DTEND;TZID=UTC:20201016T120000
DTSTAMP:20260420T225509
CREATED:20200508T095947Z
LAST-MODIFIED:20200508T095947Z
UID:7872-1602840600-1602849600@hrtlink.nl
SUMMARY:Presence Leiderschool
DESCRIPTION:
URL:https://hrtlink.nl/event/presence-leiderschool/
CATEGORIES:Spreekbeurten
END:VEVENT
BEGIN:VEVENT
DTSTART;TZID=UTC:20201011T191500
DTEND;TZID=UTC:20201011T210000
DTSTAMP:20260420T225509
CREATED:20200616T090244Z
LAST-MODIFIED:20200616T090244Z
UID:7886-1602443700-1602450000@hrtlink.nl
SUMMARY:Baptistengemeente Katwijk
DESCRIPTION:
URL:https://hrtlink.nl/event/baptistengemeente-katwijk/
LOCATION:Baptistengemeente Katwijk\, Hoornesplein 155\, Katwijk\, Nederland
CATEGORIES:Spreekbeurten
END:VEVENT
BEGIN:VEVENT
DTSTART;TZID=UTC:20201011T093000
DTEND;TZID=UTC:20201011T130000
DTSTAMP:20260420T225509
CREATED:20190307T131745Z
LAST-MODIFIED:20190307T131745Z
UID:7622-1602408600-1602421200@hrtlink.nl
SUMMARY:Mozaiek033
DESCRIPTION:
URL:https://hrtlink.nl/event/mozaiek033-2/
LOCATION:Corlaer College\, Henri Nouwenstraat 8\, Nijkerk\, Nederland
CATEGORIES:Spreekbeurten
END:VEVENT
BEGIN:VEVENT
DTSTART;TZID=UTC:20201004T100000
DTEND;TZID=UTC:20201004T113000
DTSTAMP:20260420T225509
CREATED:20190307T131604Z
LAST-MODIFIED:20190307T131604Z
UID:7618-1601805600-1601811000@hrtlink.nl
SUMMARY:Welkom Dienst PKN Surhuisterveen
DESCRIPTION:
URL:https://hrtlink.nl/event/welkom-dienst-pkn-surhuisterveen/
LOCATION:De Flambou\, Groningerstraat 40\, Surhuisterveen\, Nederland
CATEGORIES:Spreekbeurten
END:VEVENT
BEGIN:VEVENT
DTSTART;TZID=UTC:20200927T100000
DTEND;TZID=UTC:20200927T113000
DTSTAMP:20260420T225509
CREATED:20190307T131057Z
LAST-MODIFIED:20190307T131057Z
UID:7616-1601200800-1601206200@hrtlink.nl
SUMMARY:Stadskerk De Wijngaard
DESCRIPTION:
URL:https://hrtlink.nl/event/stadskerk-de-wijngaard-2/
LOCATION:Stadskerk De Wijngaard\, Mr. P.J. Troelstraweg 147a\, Leeuwarden\, Nederland
CATEGORIES:Spreekbeurten
END:VEVENT
BEGIN:VEVENT
DTSTART;TZID=UTC:20200920T093000
DTEND;TZID=UTC:20200920T130000
DTSTAMP:20260420T225509
CREATED:20190307T130936Z
LAST-MODIFIED:20190307T130936Z
UID:7614-1600594200-1600606800@hrtlink.nl
SUMMARY:Shelter Haarlem
DESCRIPTION:
URL:https://hrtlink.nl/event/shelter-haarlem-62/
LOCATION:TRIBE\, Eksterlaan 1\, Haarlem
CATEGORIES:Spreekbeurten
END:VEVENT
BEGIN:VEVENT
DTSTART;TZID=UTC:20200913T110000
DTEND;TZID=UTC:20200913T123000
DTSTAMP:20260420T225509
CREATED:20190307T130841Z
LAST-MODIFIED:20190307T130841Z
UID:7612-1599994800-1600000200@hrtlink.nl
SUMMARY:House of Heroes
DESCRIPTION:
URL:https://hrtlink.nl/event/house-of-heroes-16/
LOCATION:De Heerlickheijd\, Staringlaan 1\, Ermelo\, Nederland
CATEGORIES:Spreekbeurten
END:VEVENT
BEGIN:VEVENT
DTSTART;TZID=UTC:20200912T100000
DTEND;TZID=UTC:20200912T153000
DTSTAMP:20260420T225509
CREATED:20191011T092534Z
LAST-MODIFIED:20191011T092534Z
UID:7767-1599904800-1599924600@hrtlink.nl
SUMMARY:Seminar De Kerk Gods Meesterwerk
DESCRIPTION:
URL:https://hrtlink.nl/event/seminar-de-kerk-gods-meesterwerk/
LOCATION:Christengemeente Sefanja\, Stationslaan 21\, Harderwijk\, Nederland
CATEGORIES:Spreekbeurten
END:VEVENT
BEGIN:VEVENT
DTSTART;TZID=UTC:20200906T110000
DTEND;TZID=UTC:20200906T123000
DTSTAMP:20260420T225509
CREATED:20190307T130651Z
LAST-MODIFIED:20190307T130651Z
UID:7610-1599390000-1599395400@hrtlink.nl
SUMMARY:ParkCity Church
DESCRIPTION:
URL:https://hrtlink.nl/event/parkcity-church-5/
LOCATION:Resound Church Parkcity\, Schaesbergerweg 136\, Heerlen\, Nederland
CATEGORIES:Spreekbeurten
END:VEVENT
BEGIN:VEVENT
DTSTART;TZID=UTC:20200905T193000
DTEND;TZID=UTC:20200905T213000
DTSTAMP:20260420T225509
CREATED:20190307T130556Z
LAST-MODIFIED:20190307T130556Z
UID:7608-1599334200-1599341400@hrtlink.nl
SUMMARY:ParkCity Church
DESCRIPTION:
URL:https://hrtlink.nl/event/parkcity-church-4/
LOCATION:Resound Church Parkcity\, Schaesbergerweg 136\, Heerlen\, Nederland
CATEGORIES:Spreekbeurten
END:VEVENT
BEGIN:VEVENT
DTSTART;TZID=UTC:20200830T100000
DTEND;TZID=UTC:20200830T113000
DTSTAMP:20260420T225509
CREATED:20190319T092512Z
LAST-MODIFIED:20190319T092512Z
UID:7653-1598781600-1598787000@hrtlink.nl
SUMMARY:City Changers
DESCRIPTION:
URL:https://hrtlink.nl/event/city-changers/
LOCATION:Connect Centrum ’s Hertogenbosch\, Rompertcentrum 27\, 's Hertogenbosch\, Netherlands
CATEGORIES:Spreekbeurten
END:VEVENT
BEGIN:VEVENT
DTSTART;TZID=UTC:20200823T100000
DTEND;TZID=UTC:20200823T123000
DTSTAMP:20260420T225509
CREATED:20200508T095027Z
LAST-MODIFIED:20200508T095027Z
UID:7868-1598176800-1598185800@hrtlink.nl
SUMMARY:Kom & Zie Rotterdam - livestream
DESCRIPTION:
URL:https://hrtlink.nl/event/kom-zie-rotterdam-livestream/
CATEGORIES:Spreekbeurten
END:VEVENT
BEGIN:VEVENT
DTSTART;TZID=UTC:20200726T110000
DTEND;TZID=UTC:20200726T130000
DTSTAMP:20260420T225509
CREATED:20200508T094716Z
LAST-MODIFIED:20200508T094716Z
UID:7862-1595761200-1595768400@hrtlink.nl
SUMMARY:House of Heroes - livestream
DESCRIPTION:
URL:https://hrtlink.nl/event/house-of-heroes-livestream/
CATEGORIES:Spreekbeurten
END:VEVENT
BEGIN:VEVENT
DTSTART;TZID=UTC:20200719T100000
DTEND;TZID=UTC:20200719T113000
DTSTAMP:20260420T225509
CREATED:20200508T094601Z
LAST-MODIFIED:20200508T094601Z
UID:7860-1595152800-1595158200@hrtlink.nl
SUMMARY:Stadskerk De Wijngaard Leeuwarden - livestream
DESCRIPTION:
URL:https://hrtlink.nl/event/stadskerk-de-wijngaard-leeuwarden-livestream/
CATEGORIES:Spreekbeurten
END:VEVENT
BEGIN:VEVENT
DTSTART;TZID=UTC:20200714T080000
DTEND;TZID=UTC:20200714T170000
DTSTAMP:20260420T225509
CREATED:20200714T100845Z
LAST-MODIFIED:20200714T100845Z
UID:7980-1594713600-1594746000@hrtlink.nl
SUMMARY:Conferentie Vaderhart van God
DESCRIPTION:
URL:https://hrtlink.nl/event/conferentie-vaderhart-van-god-2/
LOCATION:De Flambou\, Groningerstraat 40\, Surhuisterveen\, Nederland
CATEGORIES:Spreekbeurten
END:VEVENT
BEGIN:VEVENT
DTSTART;TZID=UTC:20200712T100000
DTEND;TZID=UTC:20200712T113000
DTSTAMP:20260420T225509
CREATED:20200508T094428Z
LAST-MODIFIED:20200508T094428Z
UID:7857-1594548000-1594553400@hrtlink.nl
SUMMARY:De Ark Langedijk - livestream
DESCRIPTION:
URL:https://hrtlink.nl/event/de-ark-langedijk-2/
CATEGORIES:Spreekbeurten
END:VEVENT
BEGIN:VEVENT
DTSTART;TZID=UTC:20200705T100000
DTEND;TZID=UTC:20200705T140000
DTSTAMP:20260420T225509
CREATED:20190620T074613Z
LAST-MODIFIED:20190620T074613Z
UID:7711-1593943200-1593957600@hrtlink.nl
SUMMARY:De Rots Amsterdam
DESCRIPTION:
URL:https://hrtlink.nl/event/de-rots-amsterdam-2/
LOCATION:De Rots\, Paasheuvelweg 36-38\, Amsterdam\, Nederland
CATEGORIES:Spreekbeurten
END:VEVENT
BEGIN:VEVENT
DTSTART;TZID=UTC:20200628T100000
DTEND;TZID=UTC:20200628T113000
DTSTAMP:20260420T225509
CREATED:20190307T125512Z
LAST-MODIFIED:20190307T125512Z
UID:7598-1593338400-1593343800@hrtlink.nl
SUMMARY:Christusgemeente The Lighthouse - livestream
DESCRIPTION:
URL:https://hrtlink.nl/event/christusgemeente-the-lighthouse-2/
LOCATION:The Lighthouse\, Bikkersweg 86\, Bunschoten-Spakenburg\, Nederland
CATEGORIES:Spreekbeurten
END:VEVENT
BEGIN:VEVENT
DTSTART;TZID=UTC:20200621T093000
DTEND;TZID=UTC:20200621T130000
DTSTAMP:20260420T225509
CREATED:20190307T125611Z
LAST-MODIFIED:20190307T125611Z
UID:7602-1592731800-1592744400@hrtlink.nl
SUMMARY:Shelter Haarlem - livestream
DESCRIPTION:
URL:https://hrtlink.nl/event/shelter-haarlem-61/
LOCATION:TRIBE\, Eksterlaan 1\, Haarlem
CATEGORIES:Spreekbeurten
END:VEVENT
BEGIN:VEVENT
DTSTART;TZID=UTC:20200614T093000
DTEND;TZID=UTC:20200614T133000
DTSTAMP:20260420T225509
CREATED:20190307T125957Z
LAST-MODIFIED:20190307T125957Z
UID:7604-1592127000-1592141400@hrtlink.nl
SUMMARY:VBG De Stadskerk Groningen - livestream
DESCRIPTION:
URL:https://hrtlink.nl/event/vbg-de-stadskerk-groningen/
LOCATION:VBG De Stadskerk\, Friesestraatweg 221\, Groningen\, Nederland
CATEGORIES:Spreekbeurten
END:VEVENT
BEGIN:VEVENT
DTSTART;TZID=UTC:20200607T150000
DTEND;TZID=UTC:20200607T170000
DTSTAMP:20260420T225509
CREATED:20200508T101310Z
LAST-MODIFIED:20200508T101310Z
UID:7881-1591542000-1591549200@hrtlink.nl
SUMMARY:Vineyard Wageningen
DESCRIPTION:
URL:https://hrtlink.nl/event/vineyard-wageningen-2/
CATEGORIES:Spreekbeurten
END:VEVENT
BEGIN:VEVENT
DTSTART;TZID=UTC:20200607T100000
DTEND;TZID=UTC:20200607T113000
DTSTAMP:20260420T225509
CREATED:20190307T125256Z
LAST-MODIFIED:20190307T125256Z
UID:7596-1591524000-1591529400@hrtlink.nl
SUMMARY:Rafaël Amersfoort - livestream
DESCRIPTION:
URL:https://hrtlink.nl/event/rafael-amersfoort-6/
LOCATION:Rafael Amersfoort\, Kosmonaut 2\, Amersfoort\, Nederland
CATEGORIES:Spreekbeurten
END:VEVENT
BEGIN:VEVENT
DTSTART;TZID=UTC:20200606T100000
DTEND;TZID=UTC:20200606T120000
DTSTAMP:20260420T225509
CREATED:20200508T092013Z
LAST-MODIFIED:20200508T092013Z
UID:7851-1591437600-1591444800@hrtlink.nl
SUMMARY:Rotsvast Academy - livestream
DESCRIPTION:
URL:https://hrtlink.nl/event/rotsvast-academy-livestream/
CATEGORIES:Spreekbeurten
END:VEVENT
BEGIN:VEVENT
DTSTART;TZID=UTC:20200527T200000
DTEND;TZID=UTC:20200527T210000
DTSTAMP:20260420T225509
CREATED:20200508T091300Z
LAST-MODIFIED:20200508T091300Z
UID:7848-1590609600-1590613200@hrtlink.nl
SUMMARY:Hanzekerk Nijmegen - Zoom studie
DESCRIPTION:
URL:https://hrtlink.nl/event/hanzekerk-nijmegen-zoom-studie/
CATEGORIES:Spreekbeurten
END:VEVENT
BEGIN:VEVENT
DTSTART;TZID=UTC:20200524T093000
DTEND;TZID=UTC:20200524T130000
DTSTAMP:20260420T225509
CREATED:20190307T125125Z
LAST-MODIFIED:20190307T125125Z
UID:7593-1590312600-1590325200@hrtlink.nl
SUMMARY:Mozaiek0318/Mozaiek033 - livestream
DESCRIPTION:
URL:https://hrtlink.nl/event/mozaiek033/
LOCATION:Corlaer College\, Henri Nouwenstraat 8\, Nijkerk\, Nederland
CATEGORIES:Spreekbeurten
END:VEVENT
END:VCALENDAR