BEGIN:VCALENDAR
VERSION:2.0
PRODID:-//Hrtlink - ECPv6.15.18//NONSGML v1.0//EN
CALSCALE:GREGORIAN
METHOD:PUBLISH
X-WR-CALNAME:Hrtlink
X-ORIGINAL-URL:https://hrtlink.nl
X-WR-CALDESC:Evenementen voor Hrtlink
REFRESH-INTERVAL;VALUE=DURATION:PT1H
X-Robots-Tag:noindex
X-PUBLISHED-TTL:PT1H
BEGIN:VTIMEZONE
TZID:UTC
BEGIN:STANDARD
TZOFFSETFROM:+0000
TZOFFSETTO:+0000
TZNAME:UTC
DTSTART:20190101T000000
END:STANDARD
END:VTIMEZONE
BEGIN:VEVENT
DTSTART;TZID=UTC:20210516T103000
DTEND;TZID=UTC:20210516T123000
DTSTAMP:20260421T021928
CREATED:20210511T070858Z
LAST-MODIFIED:20210511T070858Z
UID:8217-1621161000-1621168200@hrtlink.nl
SUMMARY:House of Hope
DESCRIPTION:
URL:https://hrtlink.nl/event/house-of-hope-2/
LOCATION:House of Hope\, Spinnekop 2\, Purmerend\, Nederland
CATEGORIES:Spreekbeurten
END:VEVENT
BEGIN:VEVENT
DTSTART;TZID=UTC:20210509T100000
DTEND;TZID=UTC:20210509T113000
DTSTAMP:20260421T021928
CREATED:20200714T092545Z
LAST-MODIFIED:20200714T092545Z
UID:7945-1620554400-1620559800@hrtlink.nl
SUMMARY:De Bazuin Familiekerk
DESCRIPTION:
URL:https://hrtlink.nl/event/de-bazuin-familiekerk-2/
LOCATION:De Bazuin\, Nedereindseweg 4\, Nieuwegein\, Nederland
CATEGORIES:Spreekbeurten
END:VEVENT
BEGIN:VEVENT
DTSTART;TZID=UTC:20210425T110000
DTEND;TZID=UTC:20210425T123000
DTSTAMP:20260421T021928
CREATED:20200710T102947Z
LAST-MODIFIED:20200710T102947Z
UID:7939-1619348400-1619353800@hrtlink.nl
SUMMARY:Resound Church Parkcity
DESCRIPTION:
URL:https://hrtlink.nl/event/resound-church-parkcity-2/
LOCATION:Resound Church Parkcity\, Schaesbergerweg 136\, Heerlen\, Nederland
CATEGORIES:Spreekbeurten
END:VEVENT
BEGIN:VEVENT
DTSTART;TZID=UTC:20210418T100000
DTEND;TZID=UTC:20210418T113000
DTSTAMP:20260421T021928
CREATED:20200710T101122Z
LAST-MODIFIED:20200710T101122Z
UID:7931-1618740000-1618745400@hrtlink.nl
SUMMARY:EG Hoeksche Waard
DESCRIPTION:
URL:https://hrtlink.nl/event/eg-hoeksche-waard/
LOCATION:EGHW ‘De Poort’\, Polderlaan 1\, Oud-Beijerland\, Nederland
CATEGORIES:Spreekbeurten
END:VEVENT
BEGIN:VEVENT
DTSTART;TZID=UTC:20210411T093000
DTEND;TZID=UTC:20210411T113000
DTSTAMP:20260421T021928
CREATED:20200716T093944Z
LAST-MODIFIED:20200716T093944Z
UID:7992-1618133400-1618140600@hrtlink.nl
SUMMARY:Shelter Haarlem
DESCRIPTION:
URL:https://hrtlink.nl/event/shelter-haarlem-57/
LOCATION:TRIBE\, Eksterlaan 1\, Haarlem
CATEGORIES:Spreekbeurten
END:VEVENT
BEGIN:VEVENT
DTSTART;TZID=UTC:20210407T193000
DTEND;TZID=UTC:20210407T213000
DTSTAMP:20260421T021928
CREATED:20200714T101142Z
LAST-MODIFIED:20200714T101142Z
UID:7982-1617823800-1617831000@hrtlink.nl
SUMMARY:Leiderschapsavond De Hanzekerk Nijmegen
DESCRIPTION:
URL:https://hrtlink.nl/event/leiderschapsavond-de-hanzekerk-nijmegen/
LOCATION:Openluchttheater De Goffert\, Steinweglaan 2\, Nijmegen\, Nederland
CATEGORIES:Spreekbeurten
END:VEVENT
BEGIN:VEVENT
DTSTART;TZID=UTC:20210404T100000
DTEND;TZID=UTC:20210404T113000
DTSTAMP:20260421T021928
CREATED:20200710T100608Z
LAST-MODIFIED:20200710T100608Z
UID:7927-1617530400-1617535800@hrtlink.nl
SUMMARY:Pinkstergemeente De Banier
DESCRIPTION:
URL:https://hrtlink.nl/event/pinkstergemeente-de-banier-6/
LOCATION:PG De Banier\, Hofkampstraat 169\, Almelo
CATEGORIES:Spreekbeurten
END:VEVENT
BEGIN:VEVENT
DTSTART;TZID=UTC:20210403T103000
DTEND;TZID=UTC:20210403T150000
DTSTAMP:20260421T021928
CREATED:20200813T080000Z
LAST-MODIFIED:20200813T080000Z
UID:8007-1617445800-1617462000@hrtlink.nl
SUMMARY:Leidersschool EC Europoort
DESCRIPTION:
URL:https://hrtlink.nl/event/leidersschool-ec-europoort/
LOCATION:EC Europoort\, Nieuwe Binnenweg 324-326\, Rotterdam\, Nederland
CATEGORIES:Spreekbeurten
END:VEVENT
BEGIN:VEVENT
DTSTART;TZID=UTC:20210328T110000
DTEND;TZID=UTC:20210328T123000
DTSTAMP:20260421T021928
CREATED:20200710T100423Z
LAST-MODIFIED:20200710T100423Z
UID:7923-1616929200-1616934600@hrtlink.nl
SUMMARY:Gemeente De Schuilplaats
DESCRIPTION:
URL:https://hrtlink.nl/event/gemeente-de-schuilplaats/
LOCATION:Gemeente De Schuilplaats Culemborg\, Beethovenlaan 1\, Culemborg\, Nederland
CATEGORIES:Spreekbeurten
END:VEVENT
BEGIN:VEVENT
DTSTART;TZID=UTC:20210321T100000
DTEND;TZID=UTC:20210321T113000
DTSTAMP:20260421T021928
CREATED:20200716T093445Z
LAST-MODIFIED:20200716T093445Z
UID:7990-1616320800-1616326200@hrtlink.nl
SUMMARY:EC Europoort
DESCRIPTION:
URL:https://hrtlink.nl/event/ec-europoort-2/
LOCATION:EC Europoort\, Nieuwe Binnenweg 324-326\, Rotterdam\, Nederland
CATEGORIES:Spreekbeurten
END:VEVENT
BEGIN:VEVENT
DTSTART;TZID=UTC:20210320T100000
DTEND;TZID=UTC:20210320T160000
DTSTAMP:20260421T021928
CREATED:20200716T093310Z
LAST-MODIFIED:20200716T093310Z
UID:7988-1616234400-1616256000@hrtlink.nl
SUMMARY:Shine Vrouwenconferentie
DESCRIPTION:
URL:https://hrtlink.nl/event/shine-vrouwenconferentie/
LOCATION:EC Europoort\, Nieuwe Binnenweg 324-326\, Rotterdam\, Nederland
CATEGORIES:Spreekbeurten
END:VEVENT
BEGIN:VEVENT
DTSTART;TZID=UTC:20210314T100000
DTEND;TZID=UTC:20210314T113000
DTSTAMP:20260421T021928
CREATED:20200710T095741Z
LAST-MODIFIED:20200710T095741Z
UID:7919-1615716000-1615721400@hrtlink.nl
SUMMARY:De Ark Langedijk
DESCRIPTION:
URL:https://hrtlink.nl/event/de-ark-langedijk-3/
LOCATION:De Ark\, Theater De Binding\, Bosgroet 12\, Zuid-Scharwoude\, Nederland
CATEGORIES:Spreekbeurten
END:VEVENT
BEGIN:VEVENT
DTSTART;TZID=UTC:20210313T100000
DTEND;TZID=UTC:20210313T173000
DTSTAMP:20260421T021928
CREATED:20200716T095655Z
LAST-MODIFIED:20200716T095655Z
UID:8004-1615629600-1615656600@hrtlink.nl
SUMMARY:Vaderhart van God - Conferentie
DESCRIPTION:
URL:https://hrtlink.nl/event/vaderhart-van-god-conferentie/
LOCATION:De Flambou\, Groningerstraat 40\, Surhuisterveen\, Nederland
CATEGORIES:Spreekbeurten
END:VEVENT
BEGIN:VEVENT
DTSTART;TZID=UTC:20210228T100000
DTEND;TZID=UTC:20210228T113000
DTSTAMP:20260421T021928
CREATED:20200710T095321Z
LAST-MODIFIED:20200710T095321Z
UID:7913-1614506400-1614511800@hrtlink.nl
SUMMARY:Christengemeente Hardinxveld-Giessendam
DESCRIPTION:
URL:https://hrtlink.nl/event/christengemeente-hardinxveld-giessendam-2/
LOCATION:Christengemeente\, Breedewaij 1a\, Hardinxveld-Giessendam
CATEGORIES:Spreekbeurten
END:VEVENT
BEGIN:VEVENT
DTSTART;TZID=UTC:20210221T100000
DTEND;TZID=UTC:20210221T113000
DTSTAMP:20260421T021928
CREATED:20200710T095029Z
LAST-MODIFIED:20200710T095029Z
UID:7911-1613901600-1613907000@hrtlink.nl
SUMMARY:EG Jozua
DESCRIPTION:
URL:https://hrtlink.nl/event/eg-jozua/
LOCATION:EG Jozua\, Sikkelstraat 2\, Dordrecht\, Nederland
CATEGORIES:Spreekbeurten
END:VEVENT
BEGIN:VEVENT
DTSTART;TZID=UTC:20210214T100000
DTEND;TZID=UTC:20210214T113000
DTSTAMP:20260421T021928
CREATED:20200710T092528Z
LAST-MODIFIED:20200710T092528Z
UID:7906-1613296800-1613302200@hrtlink.nl
SUMMARY:Stadskerk De Wijngaard
DESCRIPTION:
URL:https://hrtlink.nl/event/stadskerk-de-wijngaard-3/
LOCATION:Stadskerk De Wijngaard\, Mr. P.J. Troelstraweg 147a\, Leeuwarden\, Nederland
CATEGORIES:Spreekbeurten
END:VEVENT
BEGIN:VEVENT
DTSTART;TZID=UTC:20210207T093000
DTEND;TZID=UTC:20210207T110000
DTSTAMP:20260421T021928
CREATED:20200714T101712Z
LAST-MODIFIED:20200714T101712Z
UID:7986-1612690200-1612695600@hrtlink.nl
SUMMARY:Shelter Haarlem
DESCRIPTION:
URL:https://hrtlink.nl/event/shelter-haarlem-56/
LOCATION:TRIBE\, Eksterlaan 1\, Haarlem
CATEGORIES:Spreekbeurten
END:VEVENT
BEGIN:VEVENT
DTSTART;VALUE=DATE:20210129
DTEND;VALUE=DATE:20210131
DTSTAMP:20260421T021928
CREATED:20200714T101327Z
LAST-MODIFIED:20200714T101327Z
UID:7984-1611878400-1612051199@hrtlink.nl
SUMMARY:Vrij Zijn Weekend
DESCRIPTION:
URL:https://hrtlink.nl/event/vrij-zijn-weekend-15/
LOCATION:De Betteld\, Aaltenseweg 11\, Zelhem
CATEGORIES:Spreekbeurten
END:VEVENT
BEGIN:VEVENT
DTSTART;TZID=UTC:20210124T110000
DTEND;TZID=UTC:20210124T130000
DTSTAMP:20260421T021928
CREATED:20200710T092228Z
LAST-MODIFIED:20200710T092228Z
UID:7903-1611486000-1611493200@hrtlink.nl
SUMMARY:House of Heroes
DESCRIPTION:
URL:https://hrtlink.nl/event/house-of-heroes-14/
LOCATION:Bouw & Infra Park\, Ceintuurbaan 2\, Harderwijk\, Nederland
CATEGORIES:Spreekbeurten
END:VEVENT
BEGIN:VEVENT
DTSTART;TZID=UTC:20210117T103000
DTEND;TZID=UTC:20210117T123000
DTSTAMP:20260421T021928
CREATED:20200710T091724Z
LAST-MODIFIED:20200710T091724Z
UID:7899-1610879400-1610886600@hrtlink.nl
SUMMARY:Kom & Zie Rotterdam
DESCRIPTION:
URL:https://hrtlink.nl/event/kom-zie-rotterdam/
LOCATION:PG Kom en Zie\, Boezemweg 166\, Rotterdam
CATEGORIES:Spreekbeurten
END:VEVENT
BEGIN:VEVENT
DTSTART;TZID=UTC:20210116T100000
DTEND;TZID=UTC:20210116T123000
DTSTAMP:20260421T021928
CREATED:20200814T081111Z
LAST-MODIFIED:20200814T081111Z
UID:8009-1610791200-1610800200@hrtlink.nl
SUMMARY:Leiderstraining Berea Amsterdam
DESCRIPTION:
URL:https://hrtlink.nl/event/leiderstraining-berea-amsterdam/
LOCATION:Berea Amsterdam\, Joop Geesinkweg 313\, Amsterdam\, Nederland
CATEGORIES:Spreekbeurten
END:VEVENT
BEGIN:VEVENT
DTSTART;TZID=UTC:20210110T103000
DTEND;TZID=UTC:20210110T123000
DTSTAMP:20260421T021928
CREATED:20200710T091541Z
LAST-MODIFIED:20200710T091541Z
UID:7896-1610274600-1610281800@hrtlink.nl
SUMMARY:Hanzekerk Nijmegen
DESCRIPTION:
URL:https://hrtlink.nl/event/hanzekerk-nijmegen-3/
LOCATION:Openluchttheater De Goffert\, Steinweglaan 2\, Nijmegen\, Nederland
CATEGORIES:Spreekbeurten
END:VEVENT
BEGIN:VEVENT
DTSTART;TZID=UTC:20210105T134500
DTEND;TZID=UTC:20210105T160000
DTSTAMP:20260421T021928
CREATED:20201106T083025Z
LAST-MODIFIED:20201106T083025Z
UID:8035-1609854300-1609862400@hrtlink.nl
SUMMARY:Kingdom Life College
DESCRIPTION:Thema: Het Vaderhart van God
URL:https://hrtlink.nl/event/kingdom-life-college/
LOCATION:Kingdom Life College\, Nieuwe Binnenweg 10\, Rotterdam\, Nederland
CATEGORIES:Spreekbeurten
ORGANIZER;CN="Kingdom Life College":MAILTO:https://kingdomlifecollege.nl/
END:VEVENT
BEGIN:VEVENT
DTSTART;TZID=UTC:20210103T100000
DTEND;TZID=UTC:20210103T113000
DTSTAMP:20260421T021928
CREATED:20200710T091238Z
LAST-MODIFIED:20200710T091238Z
UID:7892-1609668000-1609673400@hrtlink.nl
SUMMARY:VEG De Burcht
DESCRIPTION:
URL:https://hrtlink.nl/event/veg-de-burcht/
LOCATION:Altena College\, Rijksstraatweg 153\, Sleeuwijk\, Nederland
CATEGORIES:Spreekbeurten
ORGANIZER;CN="VEG De Burcht":MAILTO:https://www.deburchtsleeuwijk.nl/activiteiten/zondagse-dienst
END:VEVENT
BEGIN:VEVENT
DTSTART;TZID=UTC:20201220T110000
DTEND;TZID=UTC:20201220T123000
DTSTAMP:20260421T021928
CREATED:20201001T072234Z
LAST-MODIFIED:20201001T072234Z
UID:8022-1608462000-1608467400@hrtlink.nl
SUMMARY:City Life Church Den Helder
DESCRIPTION:
URL:https://hrtlink.nl/event/city-life-church-den-helder/
LOCATION:CLC Den Helder\, Annie Romein Verschoorlaan 11\, Den Helder\, Nederland
CATEGORIES:Spreekbeurten
END:VEVENT
BEGIN:VEVENT
DTSTART;TZID=UTC:20201213T093000
DTEND;TZID=UTC:20201213T130000
DTSTAMP:20260421T021928
CREATED:20190307T133343Z
LAST-MODIFIED:20190307T133343Z
UID:7645-1607851800-1607864400@hrtlink.nl
SUMMARY:Shelter Haarlem
DESCRIPTION:
URL:https://hrtlink.nl/event/shelter-haarlem-64/
LOCATION:TRIBE\, Eksterlaan 1\, Haarlem
CATEGORIES:Spreekbeurten
END:VEVENT
BEGIN:VEVENT
DTSTART;TZID=UTC:20201206T103000
DTEND;TZID=UTC:20201206T120000
DTSTAMP:20260421T021928
CREATED:20190307T133254Z
LAST-MODIFIED:20190307T133254Z
UID:7641-1607250600-1607256000@hrtlink.nl
SUMMARY:House of Hope
DESCRIPTION:
URL:https://hrtlink.nl/event/house-of-hope/
LOCATION:House of Hope\, Spinnekop 2\, Purmerend\, Nederland
CATEGORIES:Spreekbeurten
END:VEVENT
BEGIN:VEVENT
DTSTART;TZID=UTC:20201203T093000
DTEND;TZID=UTC:20201203T153000
DTSTAMP:20260421T021928
CREATED:20200827T091601Z
LAST-MODIFIED:20200827T091601Z
UID:8016-1606987800-1607009400@hrtlink.nl
SUMMARY:Royal Mission Fulltime School
DESCRIPTION:
URL:https://hrtlink.nl/event/royal-mission-fulltime-school-4/
LOCATION:Royal Mission Drachten\, De Knobben 3\, Drachten\, Nederland
CATEGORIES:Spreekbeurten
ORGANIZER;CN="Royal Mission Fulltime School":MAILTO:https://www.royalmission.nl/
END:VEVENT
BEGIN:VEVENT
DTSTART;TZID=UTC:20201129T110000
DTEND;TZID=UTC:20201129T123000
DTSTAMP:20260421T021928
CREATED:20190307T132944Z
LAST-MODIFIED:20190307T132944Z
UID:7639-1606647600-1606653000@hrtlink.nl
SUMMARY:House of Heroes
DESCRIPTION:
URL:https://hrtlink.nl/event/house-of-heroes-17/
LOCATION:De Heerlickheijd\, Staringlaan 1\, Ermelo\, Nederland
CATEGORIES:Spreekbeurten
END:VEVENT
BEGIN:VEVENT
DTSTART;TZID=UTC:20201122T100000
DTEND;TZID=UTC:20201122T120000
DTSTAMP:20260421T021928
CREATED:20190307T132812Z
LAST-MODIFIED:20190307T132812Z
UID:7635-1606039200-1606046400@hrtlink.nl
SUMMARY:Evangelie Gemeente Lisse
DESCRIPTION:
URL:https://hrtlink.nl/event/evangelie-gemeente-lisse-3/
LOCATION:EG Lisse\, Jozef Israëlsstraat 11\, Lisse\, Nederland
CATEGORIES:Spreekbeurten
END:VEVENT
END:VCALENDAR