BEGIN:VCALENDAR
VERSION:2.0
PRODID:-//Hrtlink - ECPv6.15.18//NONSGML v1.0//EN
CALSCALE:GREGORIAN
METHOD:PUBLISH
X-WR-CALNAME:Hrtlink
X-ORIGINAL-URL:https://hrtlink.nl
X-WR-CALDESC:Evenementen voor Hrtlink
REFRESH-INTERVAL;VALUE=DURATION:PT1H
X-Robots-Tag:noindex
X-PUBLISHED-TTL:PT1H
BEGIN:VTIMEZONE
TZID:UTC
BEGIN:STANDARD
TZOFFSETFROM:+0000
TZOFFSETTO:+0000
TZNAME:UTC
DTSTART:20200101T000000
END:STANDARD
END:VTIMEZONE
BEGIN:VEVENT
DTSTART;VALUE=DATE:20211127
DTEND;VALUE=DATE:20211128
DTSTAMP:20260420T213055
CREATED:20210121T085812Z
LAST-MODIFIED:20210121T085812Z
UID:8067-1637971200-1638057599@hrtlink.nl
SUMMARY:Inspiratieweekend 'Heer van je Leven'
DESCRIPTION:Thema: Gods stem verstaan
URL:https://hrtlink.nl/event/inspiratieweekend-heer-van-je-leven/
LOCATION:BetteldBrandpunt\, Postweg 18\, Doorn\, Nederland
CATEGORIES:Spreekbeurten
END:VEVENT
BEGIN:VEVENT
DTSTART;TZID=UTC:20211121T100000
DTEND;TZID=UTC:20211121T113000
DTSTAMP:20260420T213055
CREATED:20200714T095640Z
LAST-MODIFIED:20200714T095640Z
UID:7966-1637488800-1637494200@hrtlink.nl
SUMMARY:Baptistengemeente Ichthus Waddinxveen
DESCRIPTION:
URL:https://hrtlink.nl/event/baptistengemeente-ichthus-waddinxveen/
LOCATION:AnneFrankcentrum\, Jan van Bijnenpad 3\, Waddinxveen\, Nederland
CATEGORIES:Spreekbeurten
END:VEVENT
BEGIN:VEVENT
DTSTART;TZID=UTC:20211120T100000
DTEND;TZID=UTC:20211120T160000
DTSTAMP:20260420T213055
CREATED:20210423T080317Z
LAST-MODIFIED:20210423T080317Z
UID:8211-1637402400-1637424000@hrtlink.nl
SUMMARY:Royal Mission School voor Leiders - jaar 1
DESCRIPTION:VIER het leven
URL:https://hrtlink.nl/event/royal-mission-school-voor-leiders-jaar-1/
LOCATION:Royal Mission Veenendaal\, De Schutterij 10\, Veenendaal\, Nederland
CATEGORIES:Spreekbeurten
ORGANIZER;CN="Royal Mission School voor Leiders":MAILTO:https://www.royalmission.nl/slide/opleiding-school-voor-leiders-2019-2020/school-voor-leiders/
END:VEVENT
BEGIN:VEVENT
DTSTART;TZID=UTC:20211114T093000
DTEND;TZID=UTC:20211114T113000
DTSTAMP:20260420T213055
CREATED:20200716T095345Z
LAST-MODIFIED:20200716T095345Z
UID:8002-1636882200-1636889400@hrtlink.nl
SUMMARY:Shelter Haarlem
DESCRIPTION:
URL:https://hrtlink.nl/event/shelter-haarlem-68/
LOCATION:TRIBE\, Eksterlaan 1\, Haarlem
CATEGORIES:Spreekbeurten
END:VEVENT
BEGIN:VEVENT
DTSTART;TZID=UTC:20211107T094000
DTEND;TZID=UTC:20211107T124500
DTSTAMP:20260420T213055
CREATED:20210416T073644Z
LAST-MODIFIED:20210416T073644Z
UID:8204-1636278000-1636289100@hrtlink.nl
SUMMARY:Hope 4 You Church
DESCRIPTION:
URL:https://hrtlink.nl/event/hope-4-you-church/
LOCATION:Hope4you\, Gildeweg 29\, Vlissingen\, Nederland
CATEGORIES:Spreekbeurten
END:VEVENT
BEGIN:VEVENT
DTSTART;TZID=UTC:20211031T100000
DTEND;TZID=UTC:20211031T113000
DTSTAMP:20260420T213055
CREATED:20200710T100657Z
LAST-MODIFIED:20200710T100657Z
UID:7929-1635674400-1635679800@hrtlink.nl
SUMMARY:Pinkstergemeente De Banier
DESCRIPTION:
URL:https://hrtlink.nl/event/pinkstergemeente-de-banier-7/
LOCATION:PG De Banier\, Hofkampstraat 169\, Almelo
CATEGORIES:Spreekbeurten
END:VEVENT
BEGIN:VEVENT
DTSTART;TZID=UTC:20211017T100000
DTEND;TZID=UTC:20211017T113000
DTSTAMP:20260420T213055
CREATED:20200714T095138Z
LAST-MODIFIED:20200714T095138Z
UID:7962-1634464800-1634470200@hrtlink.nl
SUMMARY:City Light Alkmaar
DESCRIPTION:
URL:https://hrtlink.nl/event/city-light-alkmaar/
LOCATION:CityLight Alkmaar\, Heldersweg 32\, Alkmaar\, Nederland
CATEGORIES:Spreekbeurten
END:VEVENT
BEGIN:VEVENT
DTSTART;TZID=UTC:20211010T103000
DTEND;TZID=UTC:20211010T120000
DTSTAMP:20260420T213055
CREATED:20200714T095301Z
LAST-MODIFIED:20200714T095301Z
UID:7964-1633861800-1633867200@hrtlink.nl
SUMMARY:De Schuilplaats
DESCRIPTION:
URL:https://hrtlink.nl/event/de-schuilplaats-4/
LOCATION:De Schuilplaats Ede\, Otterloseweg 18-A\, Ede
CATEGORIES:Spreekbeurten
END:VEVENT
BEGIN:VEVENT
DTSTART;TZID=UTC:20211003T090000
DTEND;TZID=UTC:20211003T123000
DTSTAMP:20260420T213055
CREATED:20210921T114855Z
LAST-MODIFIED:20210921T114855Z
UID:8263-1633251600-1633264200@hrtlink.nl
SUMMARY:Mozaïek0318
DESCRIPTION:
URL:https://hrtlink.nl/event/mozaiek0318-3/
LOCATION:De Basiliek\, Wiltonstraat 59\, Veenendaal\, Nederland
CATEGORIES:Spreekbeurten
ORGANIZER;CN="Moza%C3%AFek0318":MAILTO:https://www.mozaiek0318.nl/paginas/mozaiek-worship-college-welkom.html
END:VEVENT
BEGIN:VEVENT
DTSTART;TZID=UTC:20211001T130000
DTEND;TZID=UTC:20211001T160000
DTSTAMP:20260420T213055
CREATED:20210330T100352Z
LAST-MODIFIED:20210330T100352Z
UID:8095-1633093200-1633104000@hrtlink.nl
SUMMARY:Mozaïek College Gemeenteleiders
DESCRIPTION:
URL:https://hrtlink.nl/event/mozaiek-college-gemeenteleiders/
LOCATION:Royal Mission Veenendaal\, De Schutterij 10\, Veenendaal\, Nederland
CATEGORIES:Spreekbeurten
ORGANIZER;CN="Moza%C3%AFek0318":MAILTO:https://www.mozaiek0318.nl/paginas/mozaiek-worship-college-welkom.html
END:VEVENT
BEGIN:VEVENT
DTSTART;TZID=UTC:20210926T100000
DTEND;TZID=UTC:20210926T113000
DTSTAMP:20260420T213055
CREATED:20200710T095416Z
LAST-MODIFIED:20200710T095416Z
UID:7915-1632650400-1632655800@hrtlink.nl
SUMMARY:Christengemeente Hardinxveld-Giessendam
DESCRIPTION:
URL:https://hrtlink.nl/event/christengemeente-hardinxveld-giessendam-3/
LOCATION:Christengemeente\, Breedewaij 1a\, Hardinxveld-Giessendam
CATEGORIES:Spreekbeurten
END:VEVENT
BEGIN:VEVENT
DTSTART;TZID=UTC:20210923T193000
DTEND;TZID=UTC:20210923T220000
DTSTAMP:20260420T213055
CREATED:20210330T095555Z
LAST-MODIFIED:20210330T095555Z
UID:8092-1632425400-1632434400@hrtlink.nl
SUMMARY:Life School - Evangelisch Werkverband
DESCRIPTION:
URL:https://hrtlink.nl/event/life-school-evangelisch-werkverband-2/
LOCATION:PKN Kruispunt Vathorst\, Terschellingkade 22\, Amersfoort\, Nederland
CATEGORIES:Spreekbeurten
ORGANIZER;CN="EW Life School":MAILTO:https://www.ewv.nl/lifeschool/
END:VEVENT
BEGIN:VEVENT
DTSTART;TZID=UTC:20210919T103000
DTEND;TZID=UTC:20210919T123000
DTSTAMP:20260420T213055
CREATED:20200710T091915Z
LAST-MODIFIED:20200710T091915Z
UID:7901-1632047400-1632054600@hrtlink.nl
SUMMARY:Kom & Zie Rotterdam
DESCRIPTION:
URL:https://hrtlink.nl/event/kom-zie-rotterdam-2/
LOCATION:PG Kom en Zie\, Boezemweg 166\, Rotterdam
CATEGORIES:Spreekbeurten
END:VEVENT
BEGIN:VEVENT
DTSTART;TZID=UTC:20210913T193000
DTEND;TZID=UTC:20210913T220000
DTSTAMP:20260420T213055
CREATED:20210330T095324Z
LAST-MODIFIED:20210330T095324Z
UID:8088-1631561400-1631570400@hrtlink.nl
SUMMARY:Life School - Evangelisch Werkverband
DESCRIPTION:
URL:https://hrtlink.nl/event/life-school-evangelisch-werkverband/
LOCATION:Bedrijfsgebouw Bas van Zessen\, Kerkweg 5\, Brandwijk\, Nederland
CATEGORIES:Spreekbeurten
ORGANIZER;CN="EW Life School":MAILTO:https://www.ewv.nl/lifeschool/
END:VEVENT
BEGIN:VEVENT
DTSTART;TZID=UTC:20210912T100000
DTEND;TZID=UTC:20210912T113000
DTSTAMP:20260420T213055
CREATED:20200710T094832Z
LAST-MODIFIED:20200710T094832Z
UID:7909-1631440800-1631446200@hrtlink.nl
SUMMARY:Stadskerk De Wijngaard
DESCRIPTION:
URL:https://hrtlink.nl/event/stadskerk-de-wijngaard-4/
LOCATION:Stadskerk De Wijngaard\, Mr. P.J. Troelstraweg 147a\, Leeuwarden\, Nederland
CATEGORIES:Spreekbeurten
END:VEVENT
BEGIN:VEVENT
DTSTART;TZID=UTC:20210905T103000
DTEND;TZID=UTC:20210905T120000
DTSTAMP:20260420T213055
CREATED:20200714T094823Z
LAST-MODIFIED:20200714T094823Z
UID:7959-1630837800-1630843200@hrtlink.nl
SUMMARY:Levend Woord Gemeente
DESCRIPTION:
URL:https://hrtlink.nl/event/levend-woord-gemeente-4/
LOCATION:De Breepleinkerk\, Van Malsenstraat 104\, Rotterdam\, Nederland
CATEGORIES:Spreekbeurten
END:VEVENT
BEGIN:VEVENT
DTSTART;TZID=UTC:20210829T093000
DTEND;TZID=UTC:20210829T113000
DTSTAMP:20260420T213055
CREATED:20200716T095140Z
LAST-MODIFIED:20200716T095140Z
UID:8000-1630229400-1630236600@hrtlink.nl
SUMMARY:Shelter Haarlem
DESCRIPTION:
URL:https://hrtlink.nl/event/shelter-haarlem-67/
LOCATION:TRIBE\, Eksterlaan 1\, Haarlem
CATEGORIES:Spreekbeurten
END:VEVENT
BEGIN:VEVENT
DTSTART;VALUE=DATE:20210801
DTEND;VALUE=DATE:20210807
DTSTAMP:20260420T213055
CREATED:20210330T094841Z
LAST-MODIFIED:20210330T094841Z
UID:8085-1627776000-1628294399@hrtlink.nl
SUMMARY:Heart2Heart Zomerweek
DESCRIPTION:
URL:https://hrtlink.nl/event/heart2heart-zomerweek/
LOCATION:De Betteld\, Aaltenseweg 11\, Zelhem
CATEGORIES:Spreekbeurten
ORGANIZER;CN="Heart2Heart":MAILTO:https://heart2heart.nl/
END:VEVENT
BEGIN:VEVENT
DTSTART;TZID=UTC:20210718T110000
DTEND;TZID=UTC:20210718T123000
DTSTAMP:20260420T213055
CREATED:20210114T083909Z
LAST-MODIFIED:20210114T083909Z
UID:8061-1626606000-1626611400@hrtlink.nl
SUMMARY:City Changers Den Bosch
DESCRIPTION:
URL:https://hrtlink.nl/event/city-changers-den-bosch/
LOCATION:City Changers\, Rompertcentrum 27\, 's Hertogenbosch\, Nederland
CATEGORIES:Spreekbeurten
END:VEVENT
BEGIN:VEVENT
DTSTART;TZID=UTC:20210711T103000
DTEND;TZID=UTC:20210711T120000
DTSTAMP:20260420T213055
CREATED:20210112T091610Z
LAST-MODIFIED:20210112T091610Z
UID:8059-1625999400-1626004800@hrtlink.nl
SUMMARY:EG De Schuilplaats
DESCRIPTION:
URL:https://hrtlink.nl/event/eg-de-schuilplaats-5/
LOCATION:Gemeente De Schuilplaats Culemborg\, Beethovenlaan 1\, Culemborg\, Nederland
CATEGORIES:Spreekbeurten
END:VEVENT
BEGIN:VEVENT
DTSTART;TZID=UTC:20210704T190000
DTEND;TZID=UTC:20210704T203000
DTSTAMP:20260420T213055
CREATED:20210330T094143Z
LAST-MODIFIED:20210330T094143Z
UID:8081-1625425200-1625430600@hrtlink.nl
SUMMARY:De Donk Ministries
DESCRIPTION:‘Leven met een Levende God’
URL:https://hrtlink.nl/event/de-donk-ministries/
LOCATION:Zalencentrum De Parel\, Talmastraat 9\, Hardinxveld Giessendam\, Nederland
CATEGORIES:Spreekbeurten
ORGANIZER;CN="De Donk Ministries":MAILTO:https://www.dedonk.com/
END:VEVENT
BEGIN:VEVENT
DTSTART;TZID=UTC:20210627T100000
DTEND;TZID=UTC:20210627T113000
DTSTAMP:20260420T213055
CREATED:20200714T094149Z
LAST-MODIFIED:20200714T094149Z
UID:7955-1624788000-1624793400@hrtlink.nl
SUMMARY:EGMA Maassluis
DESCRIPTION:
URL:https://hrtlink.nl/event/egma-maassluis/
LOCATION:Wavemakers\, G.A. Brederolaan 49\, Maassluis
CATEGORIES:Spreekbeurten
END:VEVENT
BEGIN:VEVENT
DTSTART;TZID=UTC:20210626T093000
DTEND;TZID=UTC:20210626T130000
DTSTAMP:20260420T213055
CREATED:20201203T104403Z
LAST-MODIFIED:20201203T104403Z
UID:8042-1624699800-1624712400@hrtlink.nl
SUMMARY:Bijbelschool Rotsvast
DESCRIPTION:
URL:https://hrtlink.nl/event/bijbelschool-rotsvast/
LOCATION:Rotsvast Bijbelschool\, Medanstraat 32-34\, Haarlem\, Nederland
CATEGORIES:Spreekbeurten
END:VEVENT
BEGIN:VEVENT
DTSTART;TZID=UTC:20210620T150000
DTEND;TZID=UTC:20210620T163000
DTSTAMP:20260420T213055
CREATED:20200714T093624Z
LAST-MODIFIED:20200714T093624Z
UID:7951-1624201200-1624206600@hrtlink.nl
SUMMARY:Vineyard Wageningen
DESCRIPTION:
URL:https://hrtlink.nl/event/vineyard-wageningen-3/
LOCATION:Vineyard Wageningen\, Ritzema Bosweg 18\, Wageningen\, Nederland
CATEGORIES:Spreekbeurten
END:VEVENT
BEGIN:VEVENT
DTSTART;VALUE=DATE:20210616
DTEND;VALUE=DATE:20210620
DTSTAMP:20260420T213055
CREATED:20201203T104649Z
LAST-MODIFIED:20201203T104649Z
UID:8047-1623801600-1624147199@hrtlink.nl
SUMMARY:Royal Mission Ondernemersreis Frankrijk
DESCRIPTION:
URL:https://hrtlink.nl/event/royal-mission-ondernemersreis-frankrijk/
CATEGORIES:Spreekbeurten
END:VEVENT
BEGIN:VEVENT
DTSTART;TZID=UTC:20210613T093000
DTEND;TZID=UTC:20210613T113000
DTSTAMP:20260420T213055
CREATED:20200716T095036Z
LAST-MODIFIED:20200716T095036Z
UID:7998-1623576600-1623583800@hrtlink.nl
SUMMARY:Shelter Haarlem
DESCRIPTION:
URL:https://hrtlink.nl/event/shelter-haarlem-66/
LOCATION:TRIBE\, Eksterlaan 1\, Haarlem
CATEGORIES:Spreekbeurten
END:VEVENT
BEGIN:VEVENT
DTSTART;TZID=UTC:20210609T133000
DTEND;TZID=UTC:20210609T181500
DTSTAMP:20260420T213055
CREATED:20210514T093224Z
LAST-MODIFIED:20210514T093224Z
UID:8219-1623245400-1623262500@hrtlink.nl
SUMMARY:Foundation 4 Life
DESCRIPTION:Visie Ontwikkelen
URL:https://hrtlink.nl/event/foundation-4-life-2/
LOCATION:De Kriemelberg\, Drieerweg 104\, Ermelo\, Nederland
CATEGORIES:Spreekbeurten
END:VEVENT
BEGIN:VEVENT
DTSTART;TZID=UTC:20210606T103000
DTEND;TZID=UTC:20210606T120000
DTSTAMP:20260420T213055
CREATED:20200714T093219Z
LAST-MODIFIED:20200714T093219Z
UID:7947-1622975400-1622980800@hrtlink.nl
SUMMARY:Gemeente Crosspoint
DESCRIPTION:
URL:https://hrtlink.nl/event/christengemeente-t-vechtdal/
LOCATION:Gemeente Crosspoint\, Balkerweg 2\, Ommen\, Nederland
CATEGORIES:Spreekbeurten
END:VEVENT
BEGIN:VEVENT
DTSTART;TZID=UTC:20210530T103000
DTEND;TZID=UTC:20210530T120000
DTSTAMP:20260420T213055
CREATED:20200710T095612Z
LAST-MODIFIED:20200710T095612Z
UID:7917-1622370600-1622376000@hrtlink.nl
SUMMARY:Levend Evangelie Gemeente
DESCRIPTION:
URL:https://hrtlink.nl/event/levend-evangelie-gemeente-3/
LOCATION:De Leg\, Kruisweg 55\, Aalsmeerderbrug\, Nederland
CATEGORIES:Spreekbeurten
END:VEVENT
BEGIN:VEVENT
DTSTART;TZID=UTC:20210523T093000
DTEND;TZID=UTC:20210523T110000
DTSTAMP:20260420T213055
CREATED:20210330T083245Z
LAST-MODIFIED:20210330T083245Z
UID:8075-1621762200-1621767600@hrtlink.nl
SUMMARY:Vrij Evangelisatie Zwolle
DESCRIPTION:
URL:https://hrtlink.nl/event/vrij-evangelisatie-zwolle/
LOCATION:VEZ Centrum\, Rieteweg 12\, Zwolle\, Nederland
CATEGORIES:Spreekbeurten
END:VEVENT
END:VCALENDAR