BEGIN:VCALENDAR
VERSION:2.0
PRODID:-//Hrtlink - ECPv6.15.18//NONSGML v1.0//EN
CALSCALE:GREGORIAN
METHOD:PUBLISH
X-WR-CALNAME:Hrtlink
X-ORIGINAL-URL:https://hrtlink.nl
X-WR-CALDESC:Evenementen voor Hrtlink
REFRESH-INTERVAL;VALUE=DURATION:PT1H
X-Robots-Tag:noindex
X-PUBLISHED-TTL:PT1H
BEGIN:VTIMEZONE
TZID:UTC
BEGIN:STANDARD
TZOFFSETFROM:+0000
TZOFFSETTO:+0000
TZNAME:UTC
DTSTART:20210101T000000
END:STANDARD
END:VTIMEZONE
BEGIN:VEVENT
DTSTART;TZID=UTC:20220703T160000
DTEND;TZID=UTC:20220703T173000
DTSTAMP:20260420T001351
CREATED:20210406T091814Z
LAST-MODIFIED:20210406T091814Z
UID:8166-1656864000-1656869400@hrtlink.nl
SUMMARY:Hanzekerk Nijmegen
DESCRIPTION:
URL:https://hrtlink.nl/event/hanzekerk-nijmegen-4/
LOCATION:Hanzekerk\, Heyendaalseweg 239\, Nijmegen\, Nederland
CATEGORIES:Spreekbeurten
END:VEVENT
BEGIN:VEVENT
DTSTART;TZID=UTC:20220626T110000
DTEND;TZID=UTC:20220626T123000
DTSTAMP:20260420T001351
CREATED:20210402T100217Z
LAST-MODIFIED:20210402T100217Z
UID:8121-1656241200-1656246600@hrtlink.nl
SUMMARY:City Life Church
DESCRIPTION:
URL:https://hrtlink.nl/event/city-life-church/
LOCATION:City Life Church\, Annie Romein Verschoorlaan 11\, Den Helder
CATEGORIES:Spreekbeurten
END:VEVENT
BEGIN:VEVENT
DTSTART;TZID=UTC:20220622T200000
DTEND;TZID=UTC:20220622T220000
DTSTAMP:20260420T001351
CREATED:20210709T082026Z
LAST-MODIFIED:20210709T082026Z
UID:8255-1655928000-1655935200@hrtlink.nl
SUMMARY:3-luik seminar : Intimiteit\, Identiteit\, Autoriteit
DESCRIPTION:
URL:https://hrtlink.nl/event/3-luik-seminar-intimiteit-identiteit-autoriteit-3/
LOCATION:Nehemia\, H.A. Lorentzstraat 5\, Zwijndrecht\, Nederland
CATEGORIES:Spreekbeurten
END:VEVENT
BEGIN:VEVENT
DTSTART;TZID=UTC:20220612T093000
DTEND;TZID=UTC:20220612T130000
DTSTAMP:20260420T001351
CREATED:20210406T091312Z
LAST-MODIFIED:20210406T091312Z
UID:8162-1655026200-1655038800@hrtlink.nl
SUMMARY:Shelter Haarlem
DESCRIPTION:
URL:https://hrtlink.nl/event/shelter-haarlem-71/
LOCATION:TRIBE\, Eksterlaan 1\, Haarlem
CATEGORIES:Spreekbeurten
END:VEVENT
BEGIN:VEVENT
DTSTART;TZID=UTC:20220608T200000
DTEND;TZID=UTC:20220608T220000
DTSTAMP:20260420T001351
CREATED:20210709T081941Z
LAST-MODIFIED:20210709T081941Z
UID:8253-1654718400-1654725600@hrtlink.nl
SUMMARY:3-luik seminar : Intimiteit\, Identiteit\, Autoriteit
DESCRIPTION:
URL:https://hrtlink.nl/event/3-luik-seminar-intimiteit-identiteit-autoriteit-2/
LOCATION:Nehemia\, H.A. Lorentzstraat 5\, Zwijndrecht\, Nederland
CATEGORIES:Spreekbeurten
END:VEVENT
BEGIN:VEVENT
DTSTART;TZID=UTC:20220529T100000
DTEND;TZID=UTC:20220529T120000
DTSTAMP:20260420T001351
CREATED:20210406T090758Z
LAST-MODIFIED:20210406T090758Z
UID:8156-1653818400-1653825600@hrtlink.nl
SUMMARY:Waardevol Leven Gemeente
DESCRIPTION:
URL:https://hrtlink.nl/event/waardevol-leven-gemeente-4/
LOCATION:Waardevol Leven\, Badweg 20\, Loppersum\, Nederland
CATEGORIES:Spreekbeurten
END:VEVENT
BEGIN:VEVENT
DTSTART;TZID=UTC:20220525T200000
DTEND;TZID=UTC:20220525T220000
DTSTAMP:20260420T001351
CREATED:20210709T081851Z
LAST-MODIFIED:20210709T081851Z
UID:8251-1653508800-1653516000@hrtlink.nl
SUMMARY:3-luik seminar : Intimiteit\, Identiteit\, Autoriteit
DESCRIPTION:
URL:https://hrtlink.nl/event/3-luik-seminar-intimiteit-identiteit-autoriteit/
LOCATION:Nehemia\, H.A. Lorentzstraat 5\, Zwijndrecht\, Nederland
CATEGORIES:Spreekbeurten
END:VEVENT
BEGIN:VEVENT
DTSTART;TZID=UTC:20220522T110000
DTEND;TZID=UTC:20220522T130000
DTSTAMP:20260420T001351
CREATED:20210406T090358Z
LAST-MODIFIED:20210406T090358Z
UID:8150-1653217200-1653224400@hrtlink.nl
SUMMARY:De Stadskerk Groningen
DESCRIPTION:
URL:https://hrtlink.nl/event/de-stadskerk-groningen/
LOCATION:De Stadskerk Groningen\, Friesestraatweg 221\, Groningen\, Nederland
CATEGORIES:Spreekbeurten
ORGANIZER;CN="De Stadskerk Groningen":MAILTO:https://www.destadskerk.nl/details/eredienst-om-930-uur-2/169102/
END:VEVENT
BEGIN:VEVENT
DTSTART;TZID=UTC:20220521T093000
DTEND;TZID=UTC:20220521T153000
DTSTAMP:20260420T001351
CREATED:20220111T101020Z
LAST-MODIFIED:20220111T101020Z
UID:8322-1653125400-1653147000@hrtlink.nl
SUMMARY:Inspiratieweekend 'Liefde van je leven'
DESCRIPTION:
URL:https://hrtlink.nl/event/inspiratieweekend-liefde-van-je-leven/
LOCATION:Het Brandpunt\, Postweg 18\, Doorn\, Nederland
CATEGORIES:Spreekbeurten
END:VEVENT
BEGIN:VEVENT
DTSTART;TZID=UTC:20220515T103000
DTEND;TZID=UTC:20220515T123000
DTSTAMP:20260420T001351
CREATED:20210406T090631Z
LAST-MODIFIED:20210406T090631Z
UID:8152-1652610600-1652617800@hrtlink.nl
SUMMARY:Levend Evangelie Gemeente
DESCRIPTION:
URL:https://hrtlink.nl/event/levend-evangelie-gemeente-4/
LOCATION:Levend Evangelie Gemeente\, Kruisweg 55\, Aalsmeerderbrug\, Nederland
CATEGORIES:Spreekbeurten
END:VEVENT
BEGIN:VEVENT
DTSTART;VALUE=DATE:20220513
DTEND;VALUE=DATE:20220515
DTSTAMP:20260420T001351
CREATED:20210402T095929Z
LAST-MODIFIED:20210402T095929Z
UID:8119-1652400000-1652572799@hrtlink.nl
SUMMARY:Vrij Zijn Weekend
DESCRIPTION:
URL:https://hrtlink.nl/event/vrij-zijn-weekend-17/
LOCATION:De Betteld\, Aaltenseweg 11\, Zelhem
CATEGORIES:Spreekbeurten
END:VEVENT
BEGIN:VEVENT
DTSTART;TZID=UTC:20220511T200000
DTEND;TZID=UTC:20220511T220000
DTSTAMP:20260420T001351
CREATED:20210709T081727Z
LAST-MODIFIED:20210709T081727Z
UID:8247-1652299200-1652306400@hrtlink.nl
SUMMARY:3-luik seminar : Intimiteit\, Identiteit\, Autoriteit
DESCRIPTION:
URL:https://hrtlink.nl/event/seminar-intimiteit-identiteit-autoriteit-3/
LOCATION:Nehemia\, H.A. Lorentzstraat 5\, Zwijndrecht\, Nederland
CATEGORIES:Spreekbeurten
END:VEVENT
BEGIN:VEVENT
DTSTART;TZID=UTC:20220508T100000
DTEND;TZID=UTC:20220508T120000
DTSTAMP:20260420T001351
CREATED:20210406T090032Z
LAST-MODIFIED:20210406T090032Z
UID:8145-1652004000-1652011200@hrtlink.nl
SUMMARY:Evangelie Gemeente Ermelo
DESCRIPTION:
URL:https://hrtlink.nl/event/evangelie-gemeente-ermelo/
LOCATION:Chr. College Groevenbeek\, Paul Krugerweg 50\, Ermelo\, Nederland
CATEGORIES:Spreekbeurten
END:VEVENT
BEGIN:VEVENT
DTSTART;TZID=UTC:20220424T093000
DTEND;TZID=UTC:20220424T130000
DTSTAMP:20260420T001351
CREATED:20210406T091217Z
LAST-MODIFIED:20210406T091217Z
UID:8160-1650792600-1650805200@hrtlink.nl
SUMMARY:Shelter Haarlem
DESCRIPTION:
URL:https://hrtlink.nl/event/shelter-haarlem-70/
LOCATION:TRIBE\, Eksterlaan 1\, Haarlem
CATEGORIES:Spreekbeurten
END:VEVENT
BEGIN:VEVENT
DTSTART;TZID=UTC:20220417T100000
DTEND;TZID=UTC:20220417T113000
DTSTAMP:20260420T001351
CREATED:20200710T095848Z
LAST-MODIFIED:20200710T095848Z
UID:7921-1650189600-1650195000@hrtlink.nl
SUMMARY:De Ark Langedijk
DESCRIPTION:
URL:https://hrtlink.nl/event/de-ark-langedijk-4/
LOCATION:De Ark\, Theater De Binding\, Bosgroet 12\, Zuid-Scharwoude\, Nederland
CATEGORIES:Spreekbeurten
END:VEVENT
BEGIN:VEVENT
DTSTART;TZID=UTC:20220410T100000
DTEND;TZID=UTC:20220410T120000
DTSTAMP:20260420T001351
CREATED:20210402T102042Z
LAST-MODIFIED:20210402T102042Z
UID:8141-1649584800-1649592000@hrtlink.nl
SUMMARY:Pinkstergemeente Banier
DESCRIPTION:
URL:https://hrtlink.nl/event/pinkstergemeente-banier/
LOCATION:PG De Banier\, Hofkampstraat 169\, Almelo
CATEGORIES:Spreekbeurten
END:VEVENT
BEGIN:VEVENT
DTSTART;TZID=UTC:20220403T110000
DTEND;TZID=UTC:20220403T123000
DTSTAMP:20260420T001351
CREATED:20210402T101723Z
LAST-MODIFIED:20210402T101723Z
UID:8139-1648983600-1648989000@hrtlink.nl
SUMMARY:Resound Church Parkcity
DESCRIPTION:
URL:https://hrtlink.nl/event/resound-church-parkcity-4/
LOCATION:Resound Church Parkcity\, Schaesbergerweg 136\, Heerlen\, Nederland
CATEGORIES:Spreekbeurten
END:VEVENT
BEGIN:VEVENT
DTSTART;TZID=UTC:20220402T130000
DTEND;TZID=UTC:20220402T180000
DTSTAMP:20260420T001351
CREATED:20220111T100807Z
LAST-MODIFIED:20220111T100807Z
UID:8318-1648904400-1648922400@hrtlink.nl
SUMMARY:Tijd van je Leven
DESCRIPTION:
URL:https://hrtlink.nl/event/tijd-van-je-leven/
LOCATION:Landgoed Groot Abbelaar\, Barneveldsestraat 24\, Renswoude\, Nederland
CATEGORIES:Spreekbeurten
END:VEVENT
BEGIN:VEVENT
DTSTART;TZID=UTC:20220327T110000
DTEND;TZID=UTC:20220327T130000
DTSTAMP:20260420T001351
CREATED:20210402T101348Z
LAST-MODIFIED:20210402T101348Z
UID:8135-1648378800-1648386000@hrtlink.nl
SUMMARY:De Rots Amsterdam
DESCRIPTION:
URL:https://hrtlink.nl/event/de-rots-amsterdam-3/
LOCATION:De Rots\, Paasheuvelweg 36-38\, Amsterdam\, Nederland
CATEGORIES:Spreekbeurten
END:VEVENT
BEGIN:VEVENT
DTSTART;TZID=UTC:20220325T100000
DTEND;TZID=UTC:20220325T163000
DTSTAMP:20260420T001351
CREATED:20220304T083315Z
LAST-MODIFIED:20220304T083315Z
UID:8336-1648202400-1648225800@hrtlink.nl
SUMMARY:New Wine Event: Re:ignite
DESCRIPTION:
URL:https://hrtlink.nl/event/new-wine-event-reignite/
LOCATION:Abdij De Mariënkroon\, Abdijlaan 1\, Nieuwkuijk
CATEGORIES:Spreekbeurten
END:VEVENT
BEGIN:VEVENT
DTSTART;TZID=UTC:20220324T193000
DTEND;TZID=UTC:20220324T213000
DTSTAMP:20260420T001351
CREATED:20220324T131447Z
LAST-MODIFIED:20220324T131447Z
UID:8365-1648150200-1648157400@hrtlink.nl
SUMMARY:Resound Youth
DESCRIPTION:
URL:https://hrtlink.nl/event/resound-youth/
LOCATION:Resound Church Parkcity\, Schaesbergerweg 136\, Heerlen\, Nederland
CATEGORIES:Spreekbeurten
END:VEVENT
BEGIN:VEVENT
DTSTART;TZID=UTC:20220320T100000
DTEND;TZID=UTC:20220320T123000
DTSTAMP:20260420T001351
CREATED:20210402T101220Z
LAST-MODIFIED:20210402T101220Z
UID:8133-1647770400-1647779400@hrtlink.nl
SUMMARY:Europoort International Church
DESCRIPTION:
URL:https://hrtlink.nl/event/europoort-international-church/
LOCATION:EC Europoort\, Nieuwe Binnenweg 324-326\, Rotterdam\, Nederland
CATEGORIES:Spreekbeurten
END:VEVENT
BEGIN:VEVENT
DTSTART;TZID=UTC:20220318T193000
DTEND;TZID=UTC:20220318T213000
DTSTAMP:20260420T001351
CREATED:20220125T112136Z
LAST-MODIFIED:20220125T112136Z
UID:8331-1647631800-1647639000@hrtlink.nl
SUMMARY:Opwekking Worship Weekend 2022
DESCRIPTION:
URL:https://hrtlink.nl/event/opwekking-worship-weekend-2022/
LOCATION:De Betteld\, Aaltenseweg 11\, Zelhem
CATEGORIES:Spreekbeurten
ORGANIZER;CN="Opwekking":MAILTO:http://www.opwekking.nl/conferenties/pinksterconferentie/275-over-de-conferentie/511-pinksterconferentie-2019
END:VEVENT
BEGIN:VEVENT
DTSTART;TZID=UTC:20220313T093000
DTEND;TZID=UTC:20220313T130000
DTSTAMP:20260420T001351
CREATED:20210402T100920Z
LAST-MODIFIED:20210402T100920Z
UID:8131-1647163800-1647176400@hrtlink.nl
SUMMARY:Shelter Haarlem
DESCRIPTION:
URL:https://hrtlink.nl/event/shelter-haarlem-69/
LOCATION:TRIBE\, Eksterlaan 1\, Haarlem
CATEGORIES:Spreekbeurten
END:VEVENT
BEGIN:VEVENT
DTSTART;TZID=UTC:20220312T090000
DTEND;TZID=UTC:20220312T123000
DTSTAMP:20260420T001351
CREATED:20210708T103649Z
LAST-MODIFIED:20210708T103649Z
UID:8243-1647075600-1647088200@hrtlink.nl
SUMMARY:Seminar 'De kerk Gods Meesterwerk' - Sefanja College
DESCRIPTION:
URL:https://hrtlink.nl/event/seminar-de-kerk-gods-meesterwerk-sefanja-college/
LOCATION:Sefanja College\, Stationslaan 121\, Harderwijk\, Nederland
CATEGORIES:Spreekbeurten
END:VEVENT
BEGIN:VEVENT
DTSTART;TZID=UTC:20220306T100000
DTEND;TZID=UTC:20220306T113000
DTSTAMP:20260420T001351
CREATED:20210402T100828Z
LAST-MODIFIED:20210402T100828Z
UID:8129-1646560800-1646566200@hrtlink.nl
SUMMARY:VEG De Burcht
DESCRIPTION:
URL:https://hrtlink.nl/event/veg-de-burcht-2/
LOCATION:Altena College\, Rijksstraatweg 153\, Sleeuwijk\, Nederland
CATEGORIES:Spreekbeurten
ORGANIZER;CN="VEG De Burcht":MAILTO:https://www.deburchtsleeuwijk.nl/activiteiten/zondagse-dienst
END:VEVENT
BEGIN:VEVENT
DTSTART;TZID=UTC:20220305T100000
DTEND;TZID=UTC:20220305T123000
DTSTAMP:20260420T001351
CREATED:20211216T125309Z
LAST-MODIFIED:20211216T125309Z
UID:8289-1646474400-1646483400@hrtlink.nl
SUMMARY:Cleansing Stream
DESCRIPTION:
URL:https://hrtlink.nl/event/cleansing-stream/
LOCATION:De Brandaris\, Coloniastraat 25\, Rotterdam\, Nederland
CATEGORIES:Spreekbeurten
END:VEVENT
BEGIN:VEVENT
DTSTART;TZID=UTC:20220227T100000
DTEND;TZID=UTC:20220227T113000
DTSTAMP:20260420T001351
CREATED:20210402T100524Z
LAST-MODIFIED:20210402T100524Z
UID:8125-1645956000-1645961400@hrtlink.nl
SUMMARY:Stadskerk De Wijngaard
DESCRIPTION:
URL:https://hrtlink.nl/event/stadskerk-de-wijngaard-5/
LOCATION:Stadskerk De Wijngaard\, Mr. P.J. Troelstraweg 147a\, Leeuwarden\, Nederland
CATEGORIES:Spreekbeurten
END:VEVENT
BEGIN:VEVENT
DTSTART;TZID=UTC:20220225T100000
DTEND;TZID=UTC:20220225T120000
DTSTAMP:20260420T001351
CREATED:20210423T080421Z
LAST-MODIFIED:20210423T080421Z
UID:8213-1645783200-1645790400@hrtlink.nl
SUMMARY:Royal Mission School voor Leiders- jaar 2
DESCRIPTION:
URL:https://hrtlink.nl/event/royal-mission-school-voor-leiders-jaar-2/
LOCATION:Royal Mission Veenendaal\, De Schutterij 10\, Veenendaal\, Nederland
CATEGORIES:Spreekbeurten
ORGANIZER;CN="Royal Mission School voor Leiders":MAILTO:https://www.royalmission.nl/slide/opleiding-school-voor-leiders-2019-2020/school-voor-leiders/
END:VEVENT
BEGIN:VEVENT
DTSTART;TZID=UTC:20220220T100000
DTEND;TZID=UTC:20220220T120000
DTSTAMP:20260420T001351
CREATED:20211130T111333Z
LAST-MODIFIED:20211130T111333Z
UID:8283-1645351200-1645358400@hrtlink.nl
SUMMARY:Evangelische Kerk De Schuilplaats
DESCRIPTION:
URL:https://hrtlink.nl/event/evangelische-kerk-de-schuilplaats/
LOCATION:Blokstallen III\, Blokstallen 3\, Bergen op Zoom\, Nederland
CATEGORIES:Spreekbeurten
END:VEVENT
END:VCALENDAR