BEGIN:VCALENDAR
VERSION:2.0
PRODID:-//Hrtlink - ECPv6.15.18//NONSGML v1.0//EN
CALSCALE:GREGORIAN
METHOD:PUBLISH
X-WR-CALNAME:Hrtlink
X-ORIGINAL-URL:https://hrtlink.nl
X-WR-CALDESC:Evenementen voor Hrtlink
REFRESH-INTERVAL;VALUE=DURATION:PT1H
X-Robots-Tag:noindex
X-PUBLISHED-TTL:PT1H
BEGIN:VTIMEZONE
TZID:UTC
BEGIN:STANDARD
TZOFFSETFROM:+0000
TZOFFSETTO:+0000
TZNAME:UTC
DTSTART:20210101T000000
END:STANDARD
END:VTIMEZONE
BEGIN:VEVENT
DTSTART;TZID=UTC:20221120T080000
DTEND;TZID=UTC:20221120T170000
DTSTAMP:20260420T043946
CREATED:20210406T093606Z
LAST-MODIFIED:20210406T093606Z
UID:8183-1668931200-1668963600@hrtlink.nl
SUMMARY:GODCentre Gouda
DESCRIPTION:
URL:https://hrtlink.nl/event/godcentre-gouda-3/
LOCATION:Jesus Central Church\, Rijsselseweg 1\, Gouda
CATEGORIES:Spreekbeurten
END:VEVENT
BEGIN:VEVENT
DTSTART;TZID=UTC:20221112T100000
DTEND;TZID=UTC:20221112T170000
DTSTAMP:20260420T043946
CREATED:20220927T074833Z
LAST-MODIFIED:20220927T074833Z
UID:8508-1668247200-1668272400@hrtlink.nl
SUMMARY:Alphacursus Nijkerk
DESCRIPTION:
URL:https://hrtlink.nl/event/alphacursus-nijkerk/
LOCATION:Kruiskerk\, Kruisstraat 1a\, Diever\, Nederland
CATEGORIES:Spreekbeurten
END:VEVENT
BEGIN:VEVENT
DTSTART;TZID=UTC:20221111T100000
DTEND;TZID=UTC:20221111T150000
DTSTAMP:20260420T043946
CREATED:20220927T081036Z
LAST-MODIFIED:20220927T081036Z
UID:8510-1668160800-1668178800@hrtlink.nl
SUMMARY:VPE Elevate Leidersdag
DESCRIPTION:
URL:https://hrtlink.nl/event/vpe-elevate-leidersdag/
LOCATION:De Leg\, Kruisweg 55\, Aalsmeerderbrug\, Nederland
CATEGORIES:Spreekbeurten
END:VEVENT
BEGIN:VEVENT
DTSTART;TZID=UTC:20221106T100000
DTEND;TZID=UTC:20221106T123000
DTSTAMP:20260420T043946
CREATED:20210402T100625Z
LAST-MODIFIED:20210402T100625Z
UID:8127-1667728800-1667737800@hrtlink.nl
SUMMARY:Stadskerk De Wijngaard
DESCRIPTION:
URL:https://hrtlink.nl/event/stadskerk-de-wijngaard-6/
LOCATION:Stadskerk De Wijngaard\, Mr. P.J. Troelstraweg 147a\, Leeuwarden\, Nederland
CATEGORIES:Spreekbeurten
END:VEVENT
BEGIN:VEVENT
DTSTART;TZID=UTC:20221029T100000
DTEND;TZID=UTC:20221029T160000
DTSTAMP:20260420T043946
CREATED:20220927T112343Z
LAST-MODIFIED:20220927T112343Z
UID:8512-1667037600-1667059200@hrtlink.nl
SUMMARY:Trainingsdag - Hanzekerk Nijmegen
DESCRIPTION:
URL:https://hrtlink.nl/event/trainingsdag-hanzekerk-nijmegen/
LOCATION:Hanzekerk\, Heyendaalseweg 239\, Nijmegen\, Nederland
CATEGORIES:Spreekbeurten
END:VEVENT
BEGIN:VEVENT
DTSTART;TZID=UTC:20221023T093000
DTEND;TZID=UTC:20221023T130000
DTSTAMP:20260420T043946
CREATED:20220915T111723Z
LAST-MODIFIED:20220915T111723Z
UID:8501-1666517400-1666530000@hrtlink.nl
SUMMARY:Mozaïek033
DESCRIPTION:
URL:https://hrtlink.nl/event/mozaiek033-3/
LOCATION:Sporthal Corlaer\, Henri Nouwenstraat 4\, Nijkerk\, Nederland
CATEGORIES:Spreekbeurten
END:VEVENT
BEGIN:VEVENT
DTSTART;TZID=UTC:20221016T100000
DTEND;TZID=UTC:20221016T113000
DTSTAMP:20260420T043946
CREATED:20210402T082910Z
LAST-MODIFIED:20210402T082910Z
UID:8102-1665914400-1665919800@hrtlink.nl
SUMMARY:Christengemeente Hardinxveld-Giessendam
DESCRIPTION:
URL:https://hrtlink.nl/event/christengemeente-hardinxveld-giessendam-5/
LOCATION:Christengemeente\, Breedewaij 1a\, Hardinxveld-Giessendam
CATEGORIES:Spreekbeurten
END:VEVENT
BEGIN:VEVENT
DTSTART;TZID=UTC:20221009T100000
DTEND;TZID=UTC:20221009T120000
DTSTAMP:20260420T043946
CREATED:20210406T090126Z
LAST-MODIFIED:20210406T090126Z
UID:8148-1665309600-1665316800@hrtlink.nl
SUMMARY:Evangelie Gemeente Ermelo
DESCRIPTION:
URL:https://hrtlink.nl/event/evangelie-gemeente-ermelo-2/
LOCATION:Chr. College Groevenbeek\, Paul Krugerweg 50\, Ermelo\, Nederland
END:VEVENT
BEGIN:VEVENT
DTSTART;TZID=UTC:20221002T110000
DTEND;TZID=UTC:20221002T123000
DTSTAMP:20260420T043946
CREATED:20220913T121926Z
LAST-MODIFIED:20220913T121926Z
UID:8497-1664708400-1664713800@hrtlink.nl
SUMMARY:Mozaïek010
DESCRIPTION:
URL:https://hrtlink.nl/event/mozaiek010/
LOCATION:Sporthal de Schenkel\, Capelseweg 39\, Capelle a/d IJssel\, Nederland
CATEGORIES:Spreekbeurten
END:VEVENT
BEGIN:VEVENT
DTSTART;TZID=UTC:20220929T193000
DTEND;TZID=UTC:20220929T220000
DTSTAMP:20260420T043946
CREATED:20220329T072902Z
LAST-MODIFIED:20220329T072902Z
UID:8396-1664479800-1664488800@hrtlink.nl
SUMMARY:LIFEschool EW
DESCRIPTION:
URL:https://hrtlink.nl/event/lifeschool-ew-2/
LOCATION:Geb. van de Evangelische Hogeschool\, Drentsestraat 3\, Amersfoort\, Nederland
CATEGORIES:Spreekbeurten
ORGANIZER;CN="EW Life School":MAILTO:https://www.ewv.nl/lifeschool/
END:VEVENT
BEGIN:VEVENT
DTSTART;TZID=UTC:20220925T100000
DTEND;TZID=UTC:20220925T113000
DTSTAMP:20260420T043946
CREATED:20210416T074548Z
LAST-MODIFIED:20210416T074548Z
UID:8207-1664100000-1664105400@hrtlink.nl
SUMMARY:Christengemeente Shekinah
DESCRIPTION:
URL:https://hrtlink.nl/event/christengemeente-shekinah/
LOCATION:CG Shekinah\, Witterhoofdweg 1a\, Assen\, Nederland
CATEGORIES:Spreekbeurten
END:VEVENT
BEGIN:VEVENT
DTSTART;TZID=UTC:20220919T193000
DTEND;TZID=UTC:20220919T220000
DTSTAMP:20260420T043946
CREATED:20220329T072532Z
LAST-MODIFIED:20220329T072532Z
UID:8394-1663615800-1663624800@hrtlink.nl
SUMMARY:LIFEschool EW
DESCRIPTION:
URL:https://hrtlink.nl/event/lifeschool-ew/
LOCATION:Bedrijfsgebouw Bas van Zessen\, Kerkweg 5\, Brandwijk\, Nederland
CATEGORIES:Spreekbeurten
ORGANIZER;CN="EW Life School":MAILTO:https://www.ewv.nl/lifeschool/
END:VEVENT
BEGIN:VEVENT
DTSTART;TZID=UTC:20220918T110000
DTEND;TZID=UTC:20220918T123000
DTSTAMP:20260420T043946
CREATED:20210406T092904Z
LAST-MODIFIED:20210406T092904Z
UID:8175-1663498800-1663504200@hrtlink.nl
SUMMARY:Gemeente De Schuilplaats
DESCRIPTION:
URL:https://hrtlink.nl/event/gemeente-de-schuilplaats-2/
LOCATION:Gemeente De Schuilplaats Culemborg\, Beethovenlaan 1\, Culemborg\, Nederland
CATEGORIES:Spreekbeurten
END:VEVENT
BEGIN:VEVENT
DTSTART;TZID=UTC:20220913T193000
DTEND;TZID=UTC:20220913T220000
DTSTAMP:20260420T043946
CREATED:20220407T080626Z
LAST-MODIFIED:20220407T080626Z
UID:8418-1663097400-1663106400@hrtlink.nl
SUMMARY:Bijbelschool GODCentre Gouda
DESCRIPTION:
URL:https://hrtlink.nl/event/bijbelschool-godcentre-gouda/
LOCATION:Jesus Central Church\, Rijsselseweg 1\, Gouda
CATEGORIES:Spreekbeurten
END:VEVENT
BEGIN:VEVENT
DTSTART;TZID=UTC:20220911T150000
DTEND;TZID=UTC:20220911T170000
DTSTAMP:20260420T043946
CREATED:20220804T113522Z
LAST-MODIFIED:20220804T113522Z
UID:8486-1662908400-1662915600@hrtlink.nl
SUMMARY:NGK De Wijngaard Wormer
DESCRIPTION:
URL:https://hrtlink.nl/event/ngk-de-wijngaard-wormer/
LOCATION:NGK De Wijngaard\, Dorpsstraat 134\, Wormer\, Nederland
CATEGORIES:Spreekbeurten
END:VEVENT
BEGIN:VEVENT
DTSTART;TZID=UTC:20220911T150000
DTEND;TZID=UTC:20220911T170000
DTSTAMP:20260420T043946
CREATED:20210520T072607Z
LAST-MODIFIED:20210520T072607Z
UID:8225-1662908400-1662915600@hrtlink.nl
SUMMARY:NGK De Wijngaard
DESCRIPTION:
URL:https://hrtlink.nl/event/ngk-de-wijngaard-2/
LOCATION:NGK De Wijngaard\, Dorpsstraat 134\, Wormer\, Nederland
CATEGORIES:Spreekbeurten
END:VEVENT
BEGIN:VEVENT
DTSTART;TZID=UTC:20220911T093000
DTEND;TZID=UTC:20220911T130000
DTSTAMP:20260420T043946
CREATED:20210406T092634Z
LAST-MODIFIED:20210406T092634Z
UID:8173-1662888600-1662901200@hrtlink.nl
SUMMARY:Shelter Haarlem
DESCRIPTION:
URL:https://hrtlink.nl/event/shelter-haarlem-72/
LOCATION:TRIBE\, Eksterlaan 1\, Haarlem
CATEGORIES:Spreekbeurten
END:VEVENT
BEGIN:VEVENT
DTSTART;TZID=UTC:20220904T103000
DTEND;TZID=UTC:20220904T120000
DTSTAMP:20260420T043946
CREATED:20210406T092533Z
LAST-MODIFIED:20210406T092533Z
UID:8169-1662287400-1662292800@hrtlink.nl
SUMMARY:EG Yeshua
DESCRIPTION:
URL:https://hrtlink.nl/event/eg-yeshua/
LOCATION:EG Yeshua\, Grote Kerkstraat 32\, Wijk en Aalburg\, Nederland
CATEGORIES:Spreekbeurten
END:VEVENT
BEGIN:VEVENT
DTSTART;TZID=UTC:20220828T100000
DTEND;TZID=UTC:20220828T111500
DTSTAMP:20260420T043946
CREATED:20211012T075345Z
LAST-MODIFIED:20211012T075345Z
UID:8266-1661680800-1661685300@hrtlink.nl
SUMMARY:Berea De Maten
DESCRIPTION:
URL:https://hrtlink.nl/event/berea-de-maten/
LOCATION:Berea De Maten\, Heemradenlaan 125\, Apeldoorn\, Nederland
CATEGORIES:Spreekbeurten
END:VEVENT
BEGIN:VEVENT
DTSTART;TZID=UTC:20220710T103000
DTEND;TZID=UTC:20220710T120000
DTSTAMP:20260420T043946
CREATED:20211021T121950Z
LAST-MODIFIED:20211021T121950Z
UID:8271-1657449000-1657454400@hrtlink.nl
SUMMARY:Levenskracht Gemeente Tilburg
DESCRIPTION:
URL:https://hrtlink.nl/event/levenskracht-gemeente-tilburg/
LOCATION:Levenskracht\, Heyhoef ‘wijkcentrum’\, Kerkenbosplaats 1\, Tilburg\, Nederland
CATEGORIES:Spreekbeurten
END:VEVENT
BEGIN:VEVENT
DTSTART;TZID=UTC:20220703T160000
DTEND;TZID=UTC:20220703T173000
DTSTAMP:20260420T043946
CREATED:20210406T091814Z
LAST-MODIFIED:20210406T091814Z
UID:8166-1656864000-1656869400@hrtlink.nl
SUMMARY:Hanzekerk Nijmegen
DESCRIPTION:
URL:https://hrtlink.nl/event/hanzekerk-nijmegen-4/
LOCATION:Hanzekerk\, Heyendaalseweg 239\, Nijmegen\, Nederland
CATEGORIES:Spreekbeurten
END:VEVENT
BEGIN:VEVENT
DTSTART;TZID=UTC:20220626T110000
DTEND;TZID=UTC:20220626T123000
DTSTAMP:20260420T043946
CREATED:20210402T100217Z
LAST-MODIFIED:20210402T100217Z
UID:8121-1656241200-1656246600@hrtlink.nl
SUMMARY:City Life Church
DESCRIPTION:
URL:https://hrtlink.nl/event/city-life-church/
LOCATION:City Life Church\, Annie Romein Verschoorlaan 11\, Den Helder
CATEGORIES:Spreekbeurten
END:VEVENT
BEGIN:VEVENT
DTSTART;TZID=UTC:20220622T200000
DTEND;TZID=UTC:20220622T220000
DTSTAMP:20260420T043946
CREATED:20210709T082026Z
LAST-MODIFIED:20210709T082026Z
UID:8255-1655928000-1655935200@hrtlink.nl
SUMMARY:3-luik seminar : Intimiteit\, Identiteit\, Autoriteit
DESCRIPTION:
URL:https://hrtlink.nl/event/3-luik-seminar-intimiteit-identiteit-autoriteit-3/
LOCATION:Nehemia\, H.A. Lorentzstraat 5\, Zwijndrecht\, Nederland
CATEGORIES:Spreekbeurten
END:VEVENT
BEGIN:VEVENT
DTSTART;TZID=UTC:20220612T093000
DTEND;TZID=UTC:20220612T130000
DTSTAMP:20260420T043946
CREATED:20210406T091312Z
LAST-MODIFIED:20210406T091312Z
UID:8162-1655026200-1655038800@hrtlink.nl
SUMMARY:Shelter Haarlem
DESCRIPTION:
URL:https://hrtlink.nl/event/shelter-haarlem-71/
LOCATION:TRIBE\, Eksterlaan 1\, Haarlem
CATEGORIES:Spreekbeurten
END:VEVENT
BEGIN:VEVENT
DTSTART;TZID=UTC:20220608T200000
DTEND;TZID=UTC:20220608T220000
DTSTAMP:20260420T043946
CREATED:20210709T081941Z
LAST-MODIFIED:20210709T081941Z
UID:8253-1654718400-1654725600@hrtlink.nl
SUMMARY:3-luik seminar : Intimiteit\, Identiteit\, Autoriteit
DESCRIPTION:
URL:https://hrtlink.nl/event/3-luik-seminar-intimiteit-identiteit-autoriteit-2/
LOCATION:Nehemia\, H.A. Lorentzstraat 5\, Zwijndrecht\, Nederland
CATEGORIES:Spreekbeurten
END:VEVENT
BEGIN:VEVENT
DTSTART;TZID=UTC:20220529T100000
DTEND;TZID=UTC:20220529T120000
DTSTAMP:20260420T043946
CREATED:20210406T090758Z
LAST-MODIFIED:20210406T090758Z
UID:8156-1653818400-1653825600@hrtlink.nl
SUMMARY:Waardevol Leven Gemeente
DESCRIPTION:
URL:https://hrtlink.nl/event/waardevol-leven-gemeente-4/
LOCATION:Waardevol Leven\, Badweg 20\, Loppersum\, Nederland
CATEGORIES:Spreekbeurten
END:VEVENT
BEGIN:VEVENT
DTSTART;TZID=UTC:20220525T200000
DTEND;TZID=UTC:20220525T220000
DTSTAMP:20260420T043946
CREATED:20210709T081851Z
LAST-MODIFIED:20210709T081851Z
UID:8251-1653508800-1653516000@hrtlink.nl
SUMMARY:3-luik seminar : Intimiteit\, Identiteit\, Autoriteit
DESCRIPTION:
URL:https://hrtlink.nl/event/3-luik-seminar-intimiteit-identiteit-autoriteit/
LOCATION:Nehemia\, H.A. Lorentzstraat 5\, Zwijndrecht\, Nederland
CATEGORIES:Spreekbeurten
END:VEVENT
BEGIN:VEVENT
DTSTART;TZID=UTC:20220522T110000
DTEND;TZID=UTC:20220522T130000
DTSTAMP:20260420T043946
CREATED:20210406T090358Z
LAST-MODIFIED:20210406T090358Z
UID:8150-1653217200-1653224400@hrtlink.nl
SUMMARY:De Stadskerk Groningen
DESCRIPTION:
URL:https://hrtlink.nl/event/de-stadskerk-groningen/
LOCATION:De Stadskerk Groningen\, Friesestraatweg 221\, Groningen\, Nederland
CATEGORIES:Spreekbeurten
ORGANIZER;CN="De Stadskerk Groningen":MAILTO:https://www.destadskerk.nl/details/eredienst-om-930-uur-2/169102/
END:VEVENT
BEGIN:VEVENT
DTSTART;TZID=UTC:20220521T093000
DTEND;TZID=UTC:20220521T153000
DTSTAMP:20260420T043946
CREATED:20220111T101020Z
LAST-MODIFIED:20220111T101020Z
UID:8322-1653125400-1653147000@hrtlink.nl
SUMMARY:Inspiratieweekend 'Liefde van je leven'
DESCRIPTION:
URL:https://hrtlink.nl/event/inspiratieweekend-liefde-van-je-leven/
LOCATION:Het Brandpunt\, Postweg 18\, Doorn\, Nederland
CATEGORIES:Spreekbeurten
END:VEVENT
BEGIN:VEVENT
DTSTART;TZID=UTC:20220515T103000
DTEND;TZID=UTC:20220515T123000
DTSTAMP:20260420T043946
CREATED:20210406T090631Z
LAST-MODIFIED:20210406T090631Z
UID:8152-1652610600-1652617800@hrtlink.nl
SUMMARY:Levend Evangelie Gemeente
DESCRIPTION:
URL:https://hrtlink.nl/event/levend-evangelie-gemeente-4/
LOCATION:Levend Evangelie Gemeente\, Kruisweg 55\, Aalsmeerderbrug\, Nederland
CATEGORIES:Spreekbeurten
END:VEVENT
END:VCALENDAR