BEGIN:VCALENDAR
VERSION:2.0
PRODID:-//Hrtlink - ECPv6.15.18//NONSGML v1.0//EN
CALSCALE:GREGORIAN
METHOD:PUBLISH
X-WR-CALNAME:Hrtlink
X-ORIGINAL-URL:https://hrtlink.nl
X-WR-CALDESC:Evenementen voor Hrtlink
REFRESH-INTERVAL;VALUE=DURATION:PT1H
X-Robots-Tag:noindex
X-PUBLISHED-TTL:PT1H
BEGIN:VTIMEZONE
TZID:UTC
BEGIN:STANDARD
TZOFFSETFROM:+0000
TZOFFSETTO:+0000
TZNAME:UTC
DTSTART:20210101T000000
END:STANDARD
END:VTIMEZONE
BEGIN:VEVENT
DTSTART;TZID=UTC:20230409T100000
DTEND;TZID=UTC:20230409T113000
DTSTAMP:20260419T180145
CREATED:20220324T131848Z
LAST-MODIFIED:20220324T131848Z
UID:8369-1681034400-1681039800@hrtlink.nl
SUMMARY:Pinkstergemeente De Banier
DESCRIPTION:
URL:https://hrtlink.nl/event/pinkstergemeente-de-banier-8/
LOCATION:PG De Banier\, Hofkampstraat 169\, Almelo
CATEGORIES:Spreekbeurten
END:VEVENT
BEGIN:VEVENT
DTSTART;TZID=UTC:20230402T093000
DTEND;TZID=UTC:20230402T130000
DTSTAMP:20260419T180145
CREATED:20220902T102759Z
LAST-MODIFIED:20220902T102759Z
UID:8489-1680427800-1680440400@hrtlink.nl
SUMMARY:Mozaïek071
DESCRIPTION:
URL:https://hrtlink.nl/event/mozaiek071/
LOCATION:Het Kruispunt Voorschoten\, Schoolstraat 2\, Voorschoten\, Nederland
CATEGORIES:Spreekbeurten
END:VEVENT
BEGIN:VEVENT
DTSTART;TZID=UTC:20230326T093000
DTEND;TZID=UTC:20230326T110000
DTSTAMP:20260419T180145
CREATED:20220329T093621Z
LAST-MODIFIED:20220329T093621Z
UID:8402-1679823000-1679828400@hrtlink.nl
SUMMARY:Kruiskerk Nijkerk
DESCRIPTION:
URL:https://hrtlink.nl/event/kruiskerk-nijkerk/
LOCATION:Kruiskerk\, Kruisstraat 1a\, Diever\, Nederland
CATEGORIES:Spreekbeurten
END:VEVENT
BEGIN:VEVENT
DTSTART;TZID=UTC:20230319T100000
DTEND;TZID=UTC:20230319T140000
DTSTAMP:20260419T180145
CREATED:20220324T131214Z
LAST-MODIFIED:20220324T131214Z
UID:8363-1679220000-1679234400@hrtlink.nl
SUMMARY:Europoort International Church
DESCRIPTION:
URL:https://hrtlink.nl/event/europoort-international-church-2/
LOCATION:EC Europoort\, Nieuwe Binnenweg 324-326\, Rotterdam\, Nederland
CATEGORIES:Spreekbeurten
END:VEVENT
BEGIN:VEVENT
DTSTART;TZID=UTC:20230312T100000
DTEND;TZID=UTC:20230312T113000
DTSTAMP:20260419T180145
CREATED:20220329T075803Z
LAST-MODIFIED:20220329T075803Z
UID:8400-1678615200-1678620600@hrtlink.nl
SUMMARY:PG Kom & Zie Rotterdam
DESCRIPTION:
URL:https://hrtlink.nl/event/pg-kom-zie-rotterdam/
LOCATION:PG Kom en Zie\, Boezemweg 166\, Rotterdam
CATEGORIES:Spreekbeurten
END:VEVENT
BEGIN:VEVENT
DTSTART;TZID=UTC:20230305T100000
DTEND;TZID=UTC:20230305T113000
DTSTAMP:20260419T180145
CREATED:20220324T130811Z
LAST-MODIFIED:20220324T130811Z
UID:8361-1678010400-1678015800@hrtlink.nl
SUMMARY:EG Jozua
DESCRIPTION:
URL:https://hrtlink.nl/event/eg-jozua-2/
LOCATION:EG Jozua\, Sikkelstraat 2\, Dordrecht\, Nederland
CATEGORIES:Spreekbeurten
END:VEVENT
BEGIN:VEVENT
DTSTART;TZID=UTC:20230226T130000
DTEND;TZID=UTC:20230226T170000
DTSTAMP:20260419T180145
CREATED:20230203T110815Z
LAST-MODIFIED:20230203T110815Z
UID:8537-1677416400-1677430800@hrtlink.nl
SUMMARY:Revival Event: Eerst Jezus
DESCRIPTION:
URL:https://hrtlink.nl/event/revival-event-eerst-jezus-2/
LOCATION:Partycentrum de Lockhorst\, Sportlaan 1\, Sliedrecht\, Nederland
CATEGORIES:Spreekbeurten
END:VEVENT
BEGIN:VEVENT
DTSTART;TZID=UTC:20230226T100000
DTEND;TZID=UTC:20230226T113000
DTSTAMP:20260419T180145
CREATED:20220324T125106Z
LAST-MODIFIED:20220324T125106Z
UID:8359-1677405600-1677411000@hrtlink.nl
SUMMARY:VEG De Burcht Sleeuwijk
DESCRIPTION:
URL:https://hrtlink.nl/event/veg-de-burcht-sleeuwijk/
LOCATION:Altena College\, Rijksstraatweg 153\, Sleeuwijk\, Nederland
CATEGORIES:Spreekbeurten
ORGANIZER;CN="VEG De Burcht":MAILTO:https://www.deburchtsleeuwijk.nl/activiteiten/zondagse-dienst
END:VEVENT
BEGIN:VEVENT
DTSTART;TZID=UTC:20230225T100000
DTEND;TZID=UTC:20230225T180000
DTSTAMP:20260419T180145
CREATED:20230203T110657Z
LAST-MODIFIED:20230203T110657Z
UID:8533-1677319200-1677348000@hrtlink.nl
SUMMARY:Revival Event: Eerst Jezus
DESCRIPTION:
URL:https://hrtlink.nl/event/revival-event-eerst-jezus/
LOCATION:Partycentrum de Lockhorst\, Sportlaan 1\, Sliedrecht\, Nederland
CATEGORIES:Spreekbeurten
END:VEVENT
BEGIN:VEVENT
DTSTART;TZID=UTC:20230219T100000
DTEND;TZID=UTC:20230219T113000
DTSTAMP:20260419T180145
CREATED:20220324T124919Z
LAST-MODIFIED:20220324T124919Z
UID:8356-1676800800-1676806200@hrtlink.nl
SUMMARY:Christengemeente Hardinxveld-Giessendam
DESCRIPTION:
URL:https://hrtlink.nl/event/christengemeente-hardinxveld-giessendam-6/
LOCATION:Christengemeente Hardinxveld Giessendam\, Breedewaij 1a\, Hardinxveld-Giessendam
CATEGORIES:Spreekbeurten
END:VEVENT
BEGIN:VEVENT
DTSTART;TZID=UTC:20230212T090000
DTEND;TZID=UTC:20230212T123000
DTSTAMP:20260419T180145
CREATED:20220324T124451Z
LAST-MODIFIED:20220324T124451Z
UID:8354-1676192400-1676205000@hrtlink.nl
SUMMARY:Shelter Haarlem
DESCRIPTION:
URL:https://hrtlink.nl/event/shelter-haarlem-65/
LOCATION:TRIBE\, Eksterlaan 1\, Haarlem
CATEGORIES:Spreekbeurten
END:VEVENT
BEGIN:VEVENT
DTSTART;TZID=UTC:20230211T100000
DTEND;TZID=UTC:20230211T220000
DTSTAMP:20260419T180145
CREATED:20230203T111054Z
LAST-MODIFIED:20230203T111054Z
UID:8539-1676109600-1676152800@hrtlink.nl
SUMMARY:Vrij Zijn Weekend
DESCRIPTION:
URL:https://hrtlink.nl/event/vrij-zijn-weekend-16/
LOCATION:De Betteld\, Aaltenseweg 11\, Zelhem
CATEGORIES:Spreekbeurten
END:VEVENT
BEGIN:VEVENT
DTSTART;TZID=UTC:20230205T100000
DTEND;TZID=UTC:20230205T113000
DTSTAMP:20260419T180145
CREATED:20220324T123252Z
LAST-MODIFIED:20220324T123252Z
UID:8350-1675591200-1675596600@hrtlink.nl
SUMMARY:CAMA Parousia Gouda
DESCRIPTION:
URL:https://hrtlink.nl/event/cama-parousia-gouda/
LOCATION:Chr.SG De Goudse Waarden\, Kanaalstraat 31\, Gouda\, Nederland
CATEGORIES:Spreekbeurten
END:VEVENT
BEGIN:VEVENT
DTSTART;TZID=UTC:20230129T100000
DTEND;TZID=UTC:20230129T113000
DTSTAMP:20260419T180145
CREATED:20220324T122408Z
LAST-MODIFIED:20220324T122408Z
UID:8348-1674986400-1674991800@hrtlink.nl
SUMMARY:Hope Church Utrecht
DESCRIPTION:
URL:https://hrtlink.nl/event/hope-church-utrecht-2/
LOCATION:Hope Church Utrecht\, Boothstraat 7\, Utrecht\, Nederland
CATEGORIES:Spreekbeurten
END:VEVENT
BEGIN:VEVENT
DTSTART;TZID=UTC:20230122T100000
DTEND;TZID=UTC:20230122T113000
DTSTAMP:20260419T180145
CREATED:20220324T122239Z
LAST-MODIFIED:20220324T122239Z
UID:8346-1674381600-1674387000@hrtlink.nl
SUMMARY:Stadskerk De Wijngaard
DESCRIPTION:
URL:https://hrtlink.nl/event/stadskerk-de-wijngaard-7/
LOCATION:Stadskerk De Wijngaard\, Mr. P.J. Troelstraweg 147a\, Leeuwarden\, Nederland
CATEGORIES:Spreekbeurten
END:VEVENT
BEGIN:VEVENT
DTSTART;TZID=UTC:20230115T100000
DTEND;TZID=UTC:20230115T113000
DTSTAMP:20260419T180145
CREATED:20220324T122031Z
LAST-MODIFIED:20220324T122031Z
UID:8344-1673776800-1673782200@hrtlink.nl
SUMMARY:Waardevol Leven Gemeente
DESCRIPTION:
URL:https://hrtlink.nl/event/waardevol-leven-gemeente-5/
LOCATION:Waardevol Leven\, Badweg 20\, Loppersum\, Nederland
CATEGORIES:Spreekbeurten
END:VEVENT
BEGIN:VEVENT
DTSTART;TZID=UTC:20221218T100000
DTEND;TZID=UTC:20221218T120000
DTSTAMP:20260419T180145
CREATED:20210402T102148Z
LAST-MODIFIED:20210402T102148Z
UID:8143-1671357600-1671364800@hrtlink.nl
SUMMARY:Pinkstergemeente Banier
DESCRIPTION:
URL:https://hrtlink.nl/event/pinkstergemeente-banier-2/
LOCATION:PG De Banier\, Hofkampstraat 169\, Almelo
CATEGORIES:Spreekbeurten
END:VEVENT
BEGIN:VEVENT
DTSTART;TZID=UTC:20221211T103000
DTEND;TZID=UTC:20221211T123000
DTSTAMP:20260419T180145
CREATED:20210406T094750Z
LAST-MODIFIED:20210406T094750Z
UID:8191-1670754600-1670761800@hrtlink.nl
SUMMARY:De Schuilplaats Ede
DESCRIPTION:
URL:https://hrtlink.nl/event/de-schuilplaats-ede/
LOCATION:De Schuilplaats Ede\, Otterloseweg 18-A\, Ede
CATEGORIES:Spreekbeurten
END:VEVENT
BEGIN:VEVENT
DTSTART;TZID=UTC:20221204T170000
DTEND;TZID=UTC:20221204T190000
DTSTAMP:20260419T180145
CREATED:20210406T095115Z
LAST-MODIFIED:20210406T095115Z
UID:8193-1670173200-1670180400@hrtlink.nl
SUMMARY:Boeketdienst Rijnsburg
DESCRIPTION:
URL:https://hrtlink.nl/event/boeketdienst-rijnsburg-3/
LOCATION:Immanuelkerk\, Kerkstraat 3\, Rijnsburg\, Nederland
CATEGORIES:Spreekbeurten
END:VEVENT
BEGIN:VEVENT
DTSTART;TZID=UTC:20221127T100000
DTEND;TZID=UTC:20221127T120000
DTSTAMP:20260419T180145
CREATED:20210406T093935Z
LAST-MODIFIED:20210406T093935Z
UID:8185-1669543200-1669550400@hrtlink.nl
SUMMARY:De Ark Langedijk
DESCRIPTION:
URL:https://hrtlink.nl/event/de-ark-langedijk-5/
LOCATION:De Ark\, Theater De Binding\, Bosgroet 12\, Zuid-Scharwoude\, Nederland
CATEGORIES:Spreekbeurten
END:VEVENT
BEGIN:VEVENT
DTSTART;TZID=UTC:20221120T080000
DTEND;TZID=UTC:20221120T170000
DTSTAMP:20260419T180145
CREATED:20210406T093606Z
LAST-MODIFIED:20210406T093606Z
UID:8183-1668931200-1668963600@hrtlink.nl
SUMMARY:GODCentre Gouda
DESCRIPTION:
URL:https://hrtlink.nl/event/godcentre-gouda-3/
LOCATION:Jesus Central Church\, Rijsselseweg 1\, Gouda
CATEGORIES:Spreekbeurten
END:VEVENT
BEGIN:VEVENT
DTSTART;TZID=UTC:20221112T100000
DTEND;TZID=UTC:20221112T170000
DTSTAMP:20260419T180145
CREATED:20220927T074833Z
LAST-MODIFIED:20220927T074833Z
UID:8508-1668247200-1668272400@hrtlink.nl
SUMMARY:Alphacursus Nijkerk
DESCRIPTION:
URL:https://hrtlink.nl/event/alphacursus-nijkerk/
LOCATION:Kruiskerk\, Kruisstraat 1a\, Diever\, Nederland
CATEGORIES:Spreekbeurten
END:VEVENT
BEGIN:VEVENT
DTSTART;TZID=UTC:20221111T100000
DTEND;TZID=UTC:20221111T150000
DTSTAMP:20260419T180145
CREATED:20220927T081036Z
LAST-MODIFIED:20220927T081036Z
UID:8510-1668160800-1668178800@hrtlink.nl
SUMMARY:VPE Elevate Leidersdag
DESCRIPTION:
URL:https://hrtlink.nl/event/vpe-elevate-leidersdag/
LOCATION:De Leg\, Kruisweg 55\, Aalsmeerderbrug\, Nederland
CATEGORIES:Spreekbeurten
END:VEVENT
BEGIN:VEVENT
DTSTART;TZID=UTC:20221106T100000
DTEND;TZID=UTC:20221106T123000
DTSTAMP:20260419T180145
CREATED:20210402T100625Z
LAST-MODIFIED:20210402T100625Z
UID:8127-1667728800-1667737800@hrtlink.nl
SUMMARY:Stadskerk De Wijngaard
DESCRIPTION:
URL:https://hrtlink.nl/event/stadskerk-de-wijngaard-6/
LOCATION:Stadskerk De Wijngaard\, Mr. P.J. Troelstraweg 147a\, Leeuwarden\, Nederland
CATEGORIES:Spreekbeurten
END:VEVENT
BEGIN:VEVENT
DTSTART;TZID=UTC:20221029T100000
DTEND;TZID=UTC:20221029T160000
DTSTAMP:20260419T180145
CREATED:20220927T112343Z
LAST-MODIFIED:20220927T112343Z
UID:8512-1667037600-1667059200@hrtlink.nl
SUMMARY:Trainingsdag - Hanzekerk Nijmegen
DESCRIPTION:
URL:https://hrtlink.nl/event/trainingsdag-hanzekerk-nijmegen/
LOCATION:Hanzekerk\, Heyendaalseweg 239\, Nijmegen\, Nederland
CATEGORIES:Spreekbeurten
END:VEVENT
BEGIN:VEVENT
DTSTART;TZID=UTC:20221023T093000
DTEND;TZID=UTC:20221023T130000
DTSTAMP:20260419T180145
CREATED:20220915T111723Z
LAST-MODIFIED:20220915T111723Z
UID:8501-1666517400-1666530000@hrtlink.nl
SUMMARY:Mozaïek033
DESCRIPTION:
URL:https://hrtlink.nl/event/mozaiek033-3/
LOCATION:Sporthal Corlaer\, Henri Nouwenstraat 4\, Nijkerk\, Nederland
CATEGORIES:Spreekbeurten
END:VEVENT
BEGIN:VEVENT
DTSTART;TZID=UTC:20221016T100000
DTEND;TZID=UTC:20221016T113000
DTSTAMP:20260419T180145
CREATED:20210402T082910Z
LAST-MODIFIED:20210402T082910Z
UID:8102-1665914400-1665919800@hrtlink.nl
SUMMARY:Christengemeente Hardinxveld-Giessendam
DESCRIPTION:
URL:https://hrtlink.nl/event/christengemeente-hardinxveld-giessendam-5/
LOCATION:Christengemeente\, Breedewaij 1a\, Hardinxveld-Giessendam
CATEGORIES:Spreekbeurten
END:VEVENT
BEGIN:VEVENT
DTSTART;TZID=UTC:20221009T100000
DTEND;TZID=UTC:20221009T120000
DTSTAMP:20260419T180145
CREATED:20210406T090126Z
LAST-MODIFIED:20210406T090126Z
UID:8148-1665309600-1665316800@hrtlink.nl
SUMMARY:Evangelie Gemeente Ermelo
DESCRIPTION:
URL:https://hrtlink.nl/event/evangelie-gemeente-ermelo-2/
LOCATION:Chr. College Groevenbeek\, Paul Krugerweg 50\, Ermelo\, Nederland
END:VEVENT
BEGIN:VEVENT
DTSTART;TZID=UTC:20221002T110000
DTEND;TZID=UTC:20221002T123000
DTSTAMP:20260419T180145
CREATED:20220913T121926Z
LAST-MODIFIED:20220913T121926Z
UID:8497-1664708400-1664713800@hrtlink.nl
SUMMARY:Mozaïek010
DESCRIPTION:
URL:https://hrtlink.nl/event/mozaiek010/
LOCATION:Sporthal de Schenkel\, Capelseweg 39\, Capelle a/d IJssel\, Nederland
CATEGORIES:Spreekbeurten
END:VEVENT
BEGIN:VEVENT
DTSTART;TZID=UTC:20220929T193000
DTEND;TZID=UTC:20220929T220000
DTSTAMP:20260419T180145
CREATED:20220329T072902Z
LAST-MODIFIED:20220329T072902Z
UID:8396-1664479800-1664488800@hrtlink.nl
SUMMARY:LIFEschool EW
DESCRIPTION:
URL:https://hrtlink.nl/event/lifeschool-ew-2/
LOCATION:Geb. van de Evangelische Hogeschool\, Drentsestraat 3\, Amersfoort\, Nederland
CATEGORIES:Spreekbeurten
ORGANIZER;CN="EW Life School":MAILTO:https://www.ewv.nl/lifeschool/
END:VEVENT
END:VCALENDAR