BEGIN:VCALENDAR
VERSION:2.0
PRODID:-//Hrtlink - ECPv6.15.18//NONSGML v1.0//EN
CALSCALE:GREGORIAN
METHOD:PUBLISH
X-ORIGINAL-URL:https://hrtlink.nl
X-WR-CALDESC:Evenementen voor Hrtlink
REFRESH-INTERVAL;VALUE=DURATION:PT1H
X-Robots-Tag:noindex
X-PUBLISHED-TTL:PT1H
BEGIN:VTIMEZONE
TZID:UTC
BEGIN:STANDARD
TZOFFSETFROM:+0000
TZOFFSETTO:+0000
TZNAME:UTC
DTSTART:20250101T000000
END:STANDARD
END:VTIMEZONE
BEGIN:VEVENT
DTSTART;TZID=UTC:20260322T100000
DTEND;TZID=UTC:20260322T113000
DTSTAMP:20260422T091131
CREATED:20251020T115907Z
LAST-MODIFIED:20251020T115907Z
UID:9010-1774173600-1774179000@hrtlink.nl
SUMMARY:De Burcht
DESCRIPTION:
URL:https://hrtlink.nl/event/de-burcht/
LOCATION:Altena College\, Rijksstraatweg 153\, Sleeuwijk\, Nederland
CATEGORIES:Spreekbeurten
ORGANIZER;CN="VEG De Burcht":MAILTO:https://www.deburchtsleeuwijk.nl/activiteiten/zondagse-dienst
END:VEVENT
END:VCALENDAR