BEGIN:VCALENDAR
VERSION:2.0
PRODID:-//Hrtlink - ECPv6.15.18//NONSGML v1.0//EN
CALSCALE:GREGORIAN
METHOD:PUBLISH
X-WR-CALNAME:Hrtlink
X-ORIGINAL-URL:https://hrtlink.nl
X-WR-CALDESC:Evenementen voor Hrtlink
REFRESH-INTERVAL;VALUE=DURATION:PT1H
X-Robots-Tag:noindex
X-PUBLISHED-TTL:PT1H
BEGIN:VTIMEZONE
TZID:UTC
BEGIN:STANDARD
TZOFFSETFROM:+0000
TZOFFSETTO:+0000
TZNAME:UTC
DTSTART:20250101T000000
END:STANDARD
END:VTIMEZONE
BEGIN:VEVENT
DTSTART;TZID=UTC:20260111T093000
DTEND;TZID=UTC:20260111T130000
DTSTAMP:20260423T083316
CREATED:20251020T102123Z
LAST-MODIFIED:20251020T102123Z
UID:8984-1768123800-1768136400@hrtlink.nl
SUMMARY:Mozaïek033
DESCRIPTION:
URL:https://hrtlink.nl/event/mozaiek033-6/
LOCATION:Sporthal Corlaer\, Henri Nouwenstraat 4\, Nijkerk\, Nederland
CATEGORIES:Spreekbeurten
END:VEVENT
END:VCALENDAR