BEGIN:VCALENDAR
VERSION:2.0
PRODID:-//Hrtlink - ECPv6.15.18//NONSGML v1.0//EN
CALSCALE:GREGORIAN
METHOD:PUBLISH
X-WR-CALNAME:Hrtlink
X-ORIGINAL-URL:https://hrtlink.nl
X-WR-CALDESC:Evenementen voor Hrtlink
REFRESH-INTERVAL;VALUE=DURATION:PT1H
X-Robots-Tag:noindex
X-PUBLISHED-TTL:PT1H
BEGIN:VTIMEZONE
TZID:UTC
BEGIN:STANDARD
TZOFFSETFROM:+0000
TZOFFSETTO:+0000
TZNAME:UTC
DTSTART:20240101T000000
END:STANDARD
END:VTIMEZONE
BEGIN:VEVENT
DTSTART;TZID=UTC:20251116T100000
DTEND;TZID=UTC:20251116T113000
DTSTAMP:20260423T221926
CREATED:20240429T112046Z
LAST-MODIFIED:20240429T112046Z
UID:8917-1763287200-1763292600@hrtlink.nl
SUMMARY:Christengemeente Sefanja
DESCRIPTION:
URL:https://hrtlink.nl/event/christengemeente-sefanja-6/
LOCATION:Christengemeente Sefanja\, Stationslaan 21\, Harderwijk\, Nederland
CATEGORIES:Spreekbeurten
END:VEVENT
END:VCALENDAR