BEGIN:VCALENDAR
VERSION:2.0
PRODID:-//Hrtlink - ECPv6.15.18//NONSGML v1.0//EN
CALSCALE:GREGORIAN
METHOD:PUBLISH
X-WR-CALNAME:Hrtlink
X-ORIGINAL-URL:https://hrtlink.nl
X-WR-CALDESC:Evenementen voor Hrtlink
REFRESH-INTERVAL;VALUE=DURATION:PT1H
X-Robots-Tag:noindex
X-PUBLISHED-TTL:PT1H
BEGIN:VTIMEZONE
TZID:UTC
BEGIN:STANDARD
TZOFFSETFROM:+0000
TZOFFSETTO:+0000
TZNAME:UTC
DTSTART:20240101T000000
END:STANDARD
END:VTIMEZONE
BEGIN:VEVENT
DTSTART;TZID=UTC:20251109T100000
DTEND;TZID=UTC:20251109T113000
DTSTAMP:20260425T101744
CREATED:20240429T111853Z
LAST-MODIFIED:20240429T111853Z
UID:8913-1762682400-1762687800@hrtlink.nl
SUMMARY:De Levensbron
DESCRIPTION:
URL:https://hrtlink.nl/event/de-levensbron/
LOCATION:CSG Willem de Zwijger\, Kamerlingh Onnesdreef 4\, Schoonhoven\, Nederland
CATEGORIES:Spreekbeurten
END:VEVENT
END:VCALENDAR