BEGIN:VCALENDAR
VERSION:2.0
PRODID:-//Hrtlink - ECPv6.15.18//NONSGML v1.0//EN
CALSCALE:GREGORIAN
METHOD:PUBLISH
X-ORIGINAL-URL:https://hrtlink.nl
X-WR-CALDESC:Evenementen voor Hrtlink
REFRESH-INTERVAL;VALUE=DURATION:PT1H
X-Robots-Tag:noindex
X-PUBLISHED-TTL:PT1H
BEGIN:VTIMEZONE
TZID:UTC
BEGIN:STANDARD
TZOFFSETFROM:+0000
TZOFFSETTO:+0000
TZNAME:UTC
DTSTART:20250101T000000
END:STANDARD
END:VTIMEZONE
BEGIN:VEVENT
DTSTART;TZID=UTC:20260301T100000
DTEND;TZID=UTC:20260301T120000
DTSTAMP:20260422T024517
CREATED:20251020T115058Z
LAST-MODIFIED:20251020T115058Z
UID:9002-1772359200-1772366400@hrtlink.nl
SUMMARY:Europoort International Church
DESCRIPTION:
URL:https://hrtlink.nl/event/europoort-international-church-4/
LOCATION:EC Europoort\, Nieuwe Binnenweg 324-326\, Rotterdam\, Nederland
CATEGORIES:Spreekbeurten
END:VEVENT
BEGIN:VEVENT
DTSTART;TZID=UTC:20260315T100000
DTEND;TZID=UTC:20260315T113000
DTSTAMP:20260422T024517
CREATED:20251020T115654Z
LAST-MODIFIED:20251020T115654Z
UID:9006-1773568800-1773574200@hrtlink.nl
SUMMARY:Pinkstergemeente Banier
DESCRIPTION:
URL:https://hrtlink.nl/event/pinkstergemeente-banier-3/
LOCATION:PG De Banier\, Hofkampstraat 169\, Almelo
CATEGORIES:Spreekbeurten
END:VEVENT
BEGIN:VEVENT
DTSTART;TZID=UTC:20260322T100000
DTEND;TZID=UTC:20260322T113000
DTSTAMP:20260422T024517
CREATED:20251020T115907Z
LAST-MODIFIED:20251020T115907Z
UID:9010-1774173600-1774179000@hrtlink.nl
SUMMARY:De Burcht
DESCRIPTION:
URL:https://hrtlink.nl/event/de-burcht/
LOCATION:Altena College\, Rijksstraatweg 153\, Sleeuwijk\, Nederland
CATEGORIES:Spreekbeurten
ORGANIZER;CN="VEG De Burcht":MAILTO:https://www.deburchtsleeuwijk.nl/activiteiten/zondagse-dienst
END:VEVENT
END:VCALENDAR