BEGIN:VCALENDAR
VERSION:2.0
PRODID:-//Hrtlink - ECPv6.15.18//NONSGML v1.0//EN
CALSCALE:GREGORIAN
METHOD:PUBLISH
X-WR-CALNAME:Hrtlink
X-ORIGINAL-URL:https://hrtlink.nl
X-WR-CALDESC:Evenementen voor Hrtlink
REFRESH-INTERVAL;VALUE=DURATION:PT1H
X-Robots-Tag:noindex
X-PUBLISHED-TTL:PT1H
BEGIN:VTIMEZONE
TZID:UTC
BEGIN:STANDARD
TZOFFSETFROM:+0000
TZOFFSETTO:+0000
TZNAME:UTC
DTSTART:20250101T000000
END:STANDARD
END:VTIMEZONE
BEGIN:VEVENT
DTSTART;TZID=UTC:20260201T100000
DTEND;TZID=UTC:20260201T113000
DTSTAMP:20260422T104213
CREATED:20251020T114055Z
LAST-MODIFIED:20251020T114055Z
UID:8994-1769940000-1769945400@hrtlink.nl
SUMMARY:Levend Evangelie Gemeente
DESCRIPTION:
URL:https://hrtlink.nl/event/levend-evangelie-gemeente-7/
LOCATION:Levend Evangelie Gemeente\, Kruisweg 55\, Aalsmeerderbrug\, Nederland
CATEGORIES:Spreekbeurten
END:VEVENT
BEGIN:VEVENT
DTSTART;TZID=UTC:20260215T103000
DTEND;TZID=UTC:20260215T120000
DTSTAMP:20260422T104213
CREATED:20251020T114605Z
LAST-MODIFIED:20251020T114605Z
UID:8998-1771151400-1771156800@hrtlink.nl
SUMMARY:De Schuilplaats
DESCRIPTION:
URL:https://hrtlink.nl/event/de-schuilplaats-6/
LOCATION:Gemeente De Schuilplaats Culemborg\, Beethovenlaan 1\, Culemborg\, Nederland
CATEGORIES:Spreekbeurten
END:VEVENT
BEGIN:VEVENT
DTSTART;TZID=UTC:20260222T103000
DTEND;TZID=UTC:20260222T120000
DTSTAMP:20260422T104213
CREATED:20251020T114845Z
LAST-MODIFIED:20251020T114845Z
UID:9000-1771756200-1771761600@hrtlink.nl
SUMMARY:Schuilplaats
DESCRIPTION:
URL:https://hrtlink.nl/event/schuilplaats/
LOCATION:De Schuilplaats Ede\, Otterloseweg 18-A\, Ede
CATEGORIES:Spreekbeurten
END:VEVENT
END:VCALENDAR