BEGIN:VCALENDAR
VERSION:2.0
PRODID:-//Hrtlink - ECPv6.15.18//NONSGML v1.0//EN
CALSCALE:GREGORIAN
METHOD:PUBLISH
X-WR-CALNAME:Hrtlink
X-ORIGINAL-URL:https://hrtlink.nl
X-WR-CALDESC:Evenementen voor Hrtlink
REFRESH-INTERVAL;VALUE=DURATION:PT1H
X-Robots-Tag:noindex
X-PUBLISHED-TTL:PT1H
BEGIN:VTIMEZONE
TZID:UTC
BEGIN:STANDARD
TZOFFSETFROM:+0000
TZOFFSETTO:+0000
TZNAME:UTC
DTSTART:20240101T000000
END:STANDARD
END:VTIMEZONE
BEGIN:VEVENT
DTSTART;TZID=UTC:20251214T100000
DTEND;TZID=UTC:20251214T113000
DTSTAMP:20260423T100004
CREATED:20240429T112946Z
LAST-MODIFIED:20240429T112946Z
UID:8925-1765706400-1765711800@hrtlink.nl
SUMMARY:CityLight Alkmaar
DESCRIPTION:
URL:https://hrtlink.nl/event/citylight-alkmaar-4/
LOCATION:CityLight Alkmaar\, Heldersweg 32\, Alkmaar\, Nederland
CATEGORIES:Spreekbeurten
END:VEVENT
BEGIN:VEVENT
DTSTART;TZID=UTC:20251221T100000
DTEND;TZID=UTC:20251221T113000
DTSTAMP:20260423T100004
CREATED:20240429T113238Z
LAST-MODIFIED:20240429T113238Z
UID:8928-1766311200-1766316600@hrtlink.nl
SUMMARY:Christengemeente Hardinxveld Giessendam
DESCRIPTION:
URL:https://hrtlink.nl/event/christengemeente-hardinxveld-giessendam-11/
LOCATION:Christengemeente Hardinxveld Giessendam\, Breedewaij 1a\, Hardinxveld-Giessendam
CATEGORIES:Spreekbeurten
END:VEVENT
BEGIN:VEVENT
DTSTART;TZID=UTC:20251228T100000
DTEND;TZID=UTC:20251228T113000
DTSTAMP:20260423T100004
CREATED:20240429T113534Z
LAST-MODIFIED:20240429T113534Z
UID:8930-1766916000-1766921400@hrtlink.nl
SUMMARY:EG Bommelerwaard / Kerk met Passie
DESCRIPTION:
URL:https://hrtlink.nl/event/eg-bommelerwaard-kerk-met-passie-2/
LOCATION:Pand 9\, Van Heemstraweg West 9\, Zaltbommel\, Nederland
CATEGORIES:Spreekbeurten
END:VEVENT
END:VCALENDAR