BEGIN:VCALENDAR
VERSION:2.0
PRODID:-//Hrtlink - ECPv6.15.18//NONSGML v1.0//EN
CALSCALE:GREGORIAN
METHOD:PUBLISH
X-WR-CALNAME:Hrtlink
X-ORIGINAL-URL:https://hrtlink.nl
X-WR-CALDESC:Evenementen voor Hrtlink
REFRESH-INTERVAL;VALUE=DURATION:PT1H
X-Robots-Tag:noindex
X-PUBLISHED-TTL:PT1H
BEGIN:VTIMEZONE
TZID:UTC
BEGIN:STANDARD
TZOFFSETFROM:+0000
TZOFFSETTO:+0000
TZNAME:UTC
DTSTART:20240101T000000
END:STANDARD
END:VTIMEZONE
BEGIN:VEVENT
DTSTART;TZID=UTC:20251102T100000
DTEND;TZID=UTC:20251102T113000
DTSTAMP:20260423T174055
CREATED:20240422T113310Z
LAST-MODIFIED:20240422T113310Z
UID:8870-1762077600-1762083000@hrtlink.nl
SUMMARY:VEG De Burcht
DESCRIPTION:
URL:https://hrtlink.nl/event/veg-de-burcht-7/
LOCATION:Altena College\, Rijksstraatweg 153\, Sleeuwijk\, Nederland
CATEGORIES:Spreekbeurten
ORGANIZER;CN="VEG De Burcht":MAILTO:https://www.deburchtsleeuwijk.nl/activiteiten/zondagse-dienst
END:VEVENT
BEGIN:VEVENT
DTSTART;TZID=UTC:20251109T100000
DTEND;TZID=UTC:20251109T113000
DTSTAMP:20260423T174055
CREATED:20240429T111853Z
LAST-MODIFIED:20240429T111853Z
UID:8913-1762682400-1762687800@hrtlink.nl
SUMMARY:De Levensbron
DESCRIPTION:
URL:https://hrtlink.nl/event/de-levensbron/
LOCATION:CSG Willem de Zwijger\, Kamerlingh Onnesdreef 4\, Schoonhoven\, Nederland
CATEGORIES:Spreekbeurten
END:VEVENT
BEGIN:VEVENT
DTSTART;TZID=UTC:20251116T100000
DTEND;TZID=UTC:20251116T113000
DTSTAMP:20260423T174055
CREATED:20240429T112046Z
LAST-MODIFIED:20240429T112046Z
UID:8917-1763287200-1763292600@hrtlink.nl
SUMMARY:Christengemeente Sefanja
DESCRIPTION:
URL:https://hrtlink.nl/event/christengemeente-sefanja-6/
LOCATION:Christengemeente Sefanja\, Stationslaan 21\, Harderwijk\, Nederland
CATEGORIES:Spreekbeurten
END:VEVENT
BEGIN:VEVENT
DTSTART;TZID=UTC:20251123T090000
DTEND;TZID=UTC:20251123T130000
DTSTAMP:20260423T174055
CREATED:20240429T112354Z
LAST-MODIFIED:20240429T112354Z
UID:8919-1763888400-1763902800@hrtlink.nl
SUMMARY:GODcentre Gouda
DESCRIPTION:
URL:https://hrtlink.nl/event/godcentre-gouda-6/
LOCATION:Jesus Central Church\, Rijsselseweg 1\, Gouda
CATEGORIES:Spreekbeurten
END:VEVENT
BEGIN:VEVENT
DTSTART;TZID=UTC:20251130T100000
DTEND;TZID=UTC:20251130T113000
DTSTAMP:20260423T174055
CREATED:20240429T112548Z
LAST-MODIFIED:20240429T112548Z
UID:8921-1764496800-1764502200@hrtlink.nl
SUMMARY:GODcentre Utrecht
DESCRIPTION:
URL:https://hrtlink.nl/event/godcentre-utrecht-2/
LOCATION:De Passie\, Zwarte Woud 211\, Utrecht\, Nederland
CATEGORIES:Spreekbeurten
END:VEVENT
END:VCALENDAR