BEGIN:VCALENDAR
VERSION:2.0
PRODID:-//Hrtlink - ECPv6.15.18//NONSGML v1.0//EN
CALSCALE:GREGORIAN
METHOD:PUBLISH
X-WR-CALNAME:Hrtlink
X-ORIGINAL-URL:https://hrtlink.nl
X-WR-CALDESC:Evenementen voor Hrtlink
REFRESH-INTERVAL;VALUE=DURATION:PT1H
X-Robots-Tag:noindex
X-PUBLISHED-TTL:PT1H
BEGIN:VTIMEZONE
TZID:UTC
BEGIN:STANDARD
TZOFFSETFROM:+0000
TZOFFSETTO:+0000
TZNAME:UTC
DTSTART:20240101T000000
END:STANDARD
END:VTIMEZONE
BEGIN:VEVENT
DTSTART;TZID=UTC:20250907T100000
DTEND;TZID=UTC:20250907T113000
DTSTAMP:20260424T035913
CREATED:20240425T115714Z
LAST-MODIFIED:20240425T115714Z
UID:8900-1757239200-1757244600@hrtlink.nl
SUMMARY:Evangelische Gemeenschap Sneek
DESCRIPTION:
URL:https://hrtlink.nl/event/evangelische-gemeenschap-sneek-2/
LOCATION:Hemkerk\, Smidsstraat 8\, Sneek\, Nederland
CATEGORIES:Spreekbeurten
END:VEVENT
BEGIN:VEVENT
DTSTART;TZID=UTC:20250914T100000
DTEND;TZID=UTC:20250914T113000
DTSTAMP:20260424T035913
CREATED:20240422T114115Z
LAST-MODIFIED:20240422T114115Z
UID:8878-1757844000-1757849400@hrtlink.nl
SUMMARY:Pinkstergemeente Banier
DESCRIPTION:
URL:https://hrtlink.nl/event/pinkstergemeente-banier-4/
LOCATION:PG De Banier\, Hofkampstraat 169\, Almelo
CATEGORIES:Spreekbeurten
END:VEVENT
BEGIN:VEVENT
DTSTART;TZID=UTC:20250921T100000
DTEND;TZID=UTC:20250921T120000
DTSTAMP:20260424T035913
CREATED:20250526T083752Z
LAST-MODIFIED:20250526T083752Z
UID:8972-1758448800-1758456000@hrtlink.nl
SUMMARY:De Ark
DESCRIPTION:
URL:https://hrtlink.nl/event/de-ark-2/
LOCATION:Theater De Binding\, Bosgroet 13\, Zuid Scharwoude\, Nederland
CATEGORIES:Spreekbeurten
END:VEVENT
BEGIN:VEVENT
DTSTART;TZID=UTC:20250928T100000
DTEND;TZID=UTC:20250928T113000
DTSTAMP:20260424T035913
CREATED:20240425T121229Z
LAST-MODIFIED:20240425T121229Z
UID:8904-1759053600-1759059000@hrtlink.nl
SUMMARY:Shelter Haarlem
DESCRIPTION:
URL:https://hrtlink.nl/event/shelter-haarlem-80/
LOCATION:TRIBE\, Eksterlaan 1\, Haarlem
CATEGORIES:Spreekbeurten
END:VEVENT
END:VCALENDAR