BEGIN:VCALENDAR
VERSION:2.0
PRODID:-//Hrtlink - ECPv6.15.18//NONSGML v1.0//EN
CALSCALE:GREGORIAN
METHOD:PUBLISH
X-ORIGINAL-URL:https://hrtlink.nl
X-WR-CALDESC:Evenementen voor Hrtlink
REFRESH-INTERVAL;VALUE=DURATION:PT1H
X-Robots-Tag:noindex
X-PUBLISHED-TTL:PT1H
BEGIN:VTIMEZONE
TZID:UTC
BEGIN:STANDARD
TZOFFSETFROM:+0000
TZOFFSETTO:+0000
TZNAME:UTC
DTSTART:20250101T000000
END:STANDARD
END:VTIMEZONE
BEGIN:VEVENT
DTSTART;TZID=UTC:20261004T103000
DTEND;TZID=UTC:20261004T120000
DTSTAMP:20260422T223327
CREATED:20251212T112945Z
LAST-MODIFIED:20251212T112945Z
UID:9070-1791109800-1791115200@hrtlink.nl
SUMMARY:Nehemia
DESCRIPTION:
URL:https://hrtlink.nl/event/nehemia-3/
LOCATION:Nehemia\, H.A. Lorentzstraat 5\, Zwijndrecht\, Nederland
CATEGORIES:Spreekbeurten
END:VEVENT
END:VCALENDAR