BEGIN:VCALENDAR
VERSION:2.0
PRODID:-//Hrtlink - ECPv6.15.18//NONSGML v1.0//EN
CALSCALE:GREGORIAN
METHOD:PUBLISH
X-WR-CALNAME:Hrtlink
X-ORIGINAL-URL:https://hrtlink.nl
X-WR-CALDESC:Evenementen voor Hrtlink
REFRESH-INTERVAL;VALUE=DURATION:PT1H
X-Robots-Tag:noindex
X-PUBLISHED-TTL:PT1H
BEGIN:VTIMEZONE
TZID:UTC
BEGIN:STANDARD
TZOFFSETFROM:+0000
TZOFFSETTO:+0000
TZNAME:UTC
DTSTART:20250101T000000
END:STANDARD
END:VTIMEZONE
BEGIN:VEVENT
DTSTART;TZID=UTC:20260913T110000
DTEND;TZID=UTC:20260913T123000
DTSTAMP:20260422T095523
CREATED:20251020T102650Z
LAST-MODIFIED:20251020T102650Z
UID:8990-1789297200-1789302600@hrtlink.nl
SUMMARY:24 Life Church
DESCRIPTION:
URL:https://hrtlink.nl/event/24-life-church-2/
LOCATION:24 Life Church\, Annie Romein-Verschoorlaan 11\, Den Helder\, Nederland\, 1784 NZ
CATEGORIES:Spreekbeurten
END:VEVENT
END:VCALENDAR