BEGIN:VCALENDAR
VERSION:2.0
PRODID:-//Hrtlink - ECPv6.15.18//NONSGML v1.0//EN
CALSCALE:GREGORIAN
METHOD:PUBLISH
X-WR-CALNAME:Hrtlink
X-ORIGINAL-URL:https://hrtlink.nl
X-WR-CALDESC:Evenementen voor Hrtlink
REFRESH-INTERVAL;VALUE=DURATION:PT1H
X-Robots-Tag:noindex
X-PUBLISHED-TTL:PT1H
BEGIN:VTIMEZONE
TZID:UTC
BEGIN:STANDARD
TZOFFSETFROM:+0000
TZOFFSETTO:+0000
TZNAME:UTC
DTSTART:20250101T000000
END:STANDARD
END:VTIMEZONE
BEGIN:VEVENT
DTSTART;TZID=UTC:20260705T093000
DTEND;TZID=UTC:20260705T130000
DTSTAMP:20260421T144104
CREATED:20260109T081105Z
LAST-MODIFIED:20260109T081105Z
UID:9083-1783243800-1783256400@hrtlink.nl
SUMMARY:Mozaiek033
DESCRIPTION:
URL:https://hrtlink.nl/event/mozaiek033-7/
LOCATION:Sporthal Corlaer\, Henri Nouwenstraat 4\, Nijkerk\, Nederland
CATEGORIES:Spreekbeurten
END:VEVENT
END:VCALENDAR